BEGIN:VCALENDAR
VERSION:2.0
PRODID:-//ChamberMaster//Event Calendar 2.0//EN
METHOD:PUBLISH
X-PUBLISHED-TTL:P3D
REFRESH-INTERVAL:P3D
CALSCALE:GREGORIAN
BEGIN:VEVENT
DTSTART:20160831T180000Z
DTEND:20160831T200000Z
X-MICROSOFT-CDO-ALLDAYEVENT:FALSE
SUMMARY:Open House * Transit Alternatives/ Otter Express* 10th Anniversary Celebration!
DESCRIPTION:Transit Alternatives - Otter Express\n\nOpen House - 10th Anniversary Celebration ! \n\n\n\nTransit Alternatives \n\nWednesday\, August 31st \n\n1:00pm - 3:00pm\n\n\n\nJoin us! \n\n\n	Light Refreshments\n	Tours\n	Enter Drawing for a chance to WIN Door Prizes
X-ALT-DESC;FMTTYPE=text/html:<p><span style="font-size: 14px\;"><strong><span style="color: rgb(0\, 0\, 255)\;"><span style="font-size: 20px\;">Transit Alternatives - Otter Express</span></span><br />\n<span style="color: rgb(0\, 0\, 255)\;"><span style="font-size: 20px\;">Open House -&nbsp\;10th&nbsp\;Anniversary Celebration ! </span></span><br />\n<br />\n<span style="font-size: 20px\;">Transit Alternatives </span><br />\nWednesday\, August 31st&nbsp\;<br />\n1:00pm - 3:00pm<br />\n<br />\nJoin us! </strong></span></p>\n\n<ul>\n	<li><strong>Light Refreshments</strong></li>\n	<li><strong>Tours</strong></li>\n	<li><strong>Enter&nbsp\;Drawing&nbsp\;for a chance to WIN Door Prizes </strong></li>\n</ul>\n
LOCATION:Transit Alternatives 1225 North Tower Road Fergus Falls\, MN 56537
UID:e.314.34632
SEQUENCE:3
DTSTAMP:20260425T110804Z
URL:https://business.fergusfalls.com/events/details/open-house-transit-alternatives-otter-express-10th-anniversary-celebration-08-31-2016-34632
END:VEVENT

END:VCALENDAR
