BEGIN:VCALENDAR
VERSION:2.0
PRODID:-//ChamberMaster//Event Calendar 2.0//EN
METHOD:PUBLISH
X-PUBLISHED-TTL:P3D
REFRESH-INTERVAL:P3D
CALSCALE:GREGORIAN
BEGIN:VEVENT
DTSTART:20160127T010000Z
DTEND:20160127T040000Z
X-MICROSOFT-CDO-ALLDAYEVENT:FALSE
SUMMARY:OPEN JAM @ The Spot- Local Musicians
DESCRIPTION:Bring your instruments. Have fun. Learn skills. Free and open to everyone!\n\nMore information and bios:\n\nhttp://www.caravanserai-arts.org/artist-profile
X-ALT-DESC;FMTTYPE=text/html:<span class="fsl"><strong>Bring your instruments. Have fun. Learn skills. Free and open to everyone!<br />\nMore information and bios:</strong><br />\n<a href="http://www.caravanserai-arts.org/artist-profile" rel="nofollow nofollow" target="_blank"><font color="#0066cc"><span>http://</span><wbr /><span>www.caravanserai-arts.org/</span><wbr /></font><font color="#0066cc">artist-profile</font></a></span>
LOCATION:The Spot Panini & Wine 220 W Lincoln Ave Fergus Falls
UID:e.314.30704
SEQUENCE:3
DTSTAMP:20260425T232904Z
URL:https://business.fergusfalls.com/events/details/open-jam-the-spot-local-musicians-01-26-2016-30704
END:VEVENT

END:VCALENDAR
