BEGIN:VCALENDAR
VERSION:2.0
PRODID:-//ChamberMaster//Event Calendar 2.0//EN
METHOD:PUBLISH
X-PUBLISHED-TTL:P3D
REFRESH-INTERVAL:P3D
CALSCALE:GREGORIAN
BEGIN:VEVENT
DTSTART:20151002T003000Z
DTEND:20151002T030000Z
X-MICROSOFT-CDO-ALLDAYEVENT:FALSE
SUMMARY:Open Mic
DESCRIPTION:Try your own poetry or read prose by another. Sing\, Play\, Enjoy the variety of talents.
X-ALT-DESC;FMTTYPE=text/html:<span class="event-description">Try your own poetry or read prose by another. Sing\, Play\, Enjoy the variety of talents. </span>
LOCATION:The Spot 220 West Lincoln Avenue Fergus Falls
UID:e.314.24217
SEQUENCE:3
DTSTAMP:20260426T025041Z
URL:https://business.fergusfalls.com/events/details/open-mic-10-01-2015-24217
END:VEVENT

END:VCALENDAR
