BEGIN:VCALENDAR
VERSION:2.0
PRODID:-//ChamberMaster//Event Calendar 2.0//EN
METHOD:PUBLISH
X-PUBLISHED-TTL:P3D
REFRESH-INTERVAL:P3D
CALSCALE:GREGORIAN
BEGIN:VEVENT
DTSTART:20160601T003000Z
DTEND:20160601T020000Z
X-MICROSOFT-CDO-ALLDAYEVENT:FALSE
SUMMARY:Open Mic Comedy Night
DESCRIPTION:Will have lip syncing involved along with the best stand up in the Fergus Metro Area!
X-ALT-DESC;FMTTYPE=text/html:<span style="color: rgb(75\, 79\, 86)\; font-family: helvetica\, arial\, sans-serif\; font-size: 14px\; line-height: 18.76px\; background-color: rgb(255\, 255\, 255)\;">Will have lip syncing involved along with the best stand up in the Fergus Metro Area!</span>
LOCATION:The Spot Panini & Wine W Lincoln Ave Fergus Falls
UID:e.314.32704
SEQUENCE:3
DTSTAMP:20260425T145031Z
URL:https://business.fergusfalls.com/events/details/open-mic-comedy-night-05-31-2016-32704
END:VEVENT

END:VCALENDAR
