BEGIN:VCALENDAR
VERSION:2.0
PRODID:-//ChamberMaster//Event Calendar 2.0//EN
METHOD:PUBLISH
X-PUBLISHED-TTL:P3D
REFRESH-INTERVAL:P3D
CALSCALE:GREGORIAN
BEGIN:VEVENT
DTSTART:20160629T003000Z
DTEND:20160629T020000Z
X-MICROSOFT-CDO-ALLDAYEVENT:FALSE
SUMMARY:Open Mic Comedy Night
DESCRIPTION:This is The Spot Panini & Wine's monthly open mic comedy night. They will start with some fun improv\, then a lip sync battle and close out the night with stand up comedy. All are welcome. Bring friends\, lip sync and share jokes! It is always a great time full of fun and laughter!
X-ALT-DESC;FMTTYPE=text/html:<font color="#4b4f56" face="helvetica\, arial\, sans-serif"><span style="font-size: 14px\; line-height: 18.76px\;">This is The Spot Panini &amp\; Wine&#39\;s monthly open mic comedy night. They will start with some fun improv\, then a lip sync battle and close out the night with stand up comedy. All are welcome. Bring friends\, lip sync and share jokes! It is always a great time full of fun and laughter!</span></font>
LOCATION:The Spot Panini & Wine 220 W. Lincoln Avenue
UID:e.314.32906
SEQUENCE:3
DTSTAMP:20260425T125232Z
URL:https://business.fergusfalls.com/events/details/open-mic-comedy-night-06-28-2016-32906
END:VEVENT

END:VCALENDAR
