BEGIN:VCALENDAR
VERSION:2.0
PRODID:-//ChamberMaster//Event Calendar 2.0//EN
METHOD:PUBLISH
X-PUBLISHED-TTL:P3D
REFRESH-INTERVAL:P3D
CALSCALE:GREGORIAN
BEGIN:VEVENT
DTSTART:20151125T010000Z
DTEND:20151125T040000Z
X-MICROSOFT-CDO-ALLDAYEVENT:FALSE
SUMMARY:open MIC Comedy Night @ The Spot
DESCRIPTION:Open Mic Comedy Night\n\nTues Nov 24 7:30\n\n The Spot Panini & Wine\n\n\n\nALL ARE WELCOMED! FIRST TIME STAND UP COMEDIANS- PROFESSIONALS.\n\nIF YOU ENJOY A GOOD LAUGH\, COME AND BRING FRIENDS!
X-ALT-DESC;FMTTYPE=text/html:Open Mic Comedy Night<br />\nTues Nov 24 7:30<br />\n&nbsp\;The Spot Panini &amp\; Wine<br />\n<br />\n<span class="fsl">ALL ARE WELCOMED! FIRST TIME STAND UP COMEDIANS- PROFESSIONALS.<br />\nIF YOU ENJOY A GOOD LAUGH\, COME AND BRING FRIENDS!</span>
LOCATION:The Spot Panini & Wine 220 W Lincoln Ave Fergus Falls
UID:e.314.26457
SEQUENCE:3
DTSTAMP:20260426T011211Z
URL:https://business.fergusfalls.com/events/details/open-mic-comedy-night-the-spot-11-24-2015-26457
END:VEVENT

END:VCALENDAR
