BEGIN:VCALENDAR
VERSION:2.0
PRODID:-//ChamberMaster//Event Calendar 2.0//EN
METHOD:PUBLISH
X-PUBLISHED-TTL:P3D
REFRESH-INTERVAL:P3D
CALSCALE:GREGORIAN
BEGIN:VEVENT
DTSTART:20160831T003000Z
DTEND:20160831T020000Z
X-MICROSOFT-CDO-ALLDAYEVENT:FALSE
SUMMARY:Open Mic Night @ The Spot
DESCRIPTION:Open Mic Night @ The Spot Panini & Wine\n\nAugust 30 - All Are Welcome\n\n7:30 pm
X-ALT-DESC;FMTTYPE=text/html:Open Mic Night @ The Spot Panini &amp\; Wine<br />\nAugust 30 - All Are Welcome<br />\n7:30 pm
LOCATION:Show Map The Spot Panini & Wine 220 W Lincoln Ave\, Fergus Falls\, Minnesota 5657
UID:e.314.35651
SEQUENCE:3
DTSTAMP:20260425T105921Z
URL:https://business.fergusfalls.com/events/details/open-mic-night-the-spot-35651
END:VEVENT

END:VCALENDAR
