BEGIN:VCALENDAR
VERSION:2.0
PRODID:-//ChamberMaster//Event Calendar 2.0//EN
METHOD:PUBLISH
X-PUBLISHED-TTL:P3D
REFRESH-INTERVAL:P3D
CALSCALE:GREGORIAN
BEGIN:VEVENT
DTSTART:20170109T220000Z
DTEND:20170110T040000Z
X-MICROSOFT-CDO-ALLDAYEVENT:FALSE
SUMMARY:Orchestra Fundraiser @UPBC!
DESCRIPTION:Orchestra Fundraiser at Union Pizza & Brewing CO.\n\nMonday Jan 9\,2017\n\n4-10pm
X-ALT-DESC;FMTTYPE=text/html:Orchestra Fundraiser at Union Pizza &amp\; Brewing CO.<br />\nMonday Jan 9\,2017<br />\n4-10pm&nbsp\;
LOCATION:Union Pizza & Brewing CO. 114 S Union Ave\, Fergus Falls\,
UID:e.314.37225
SEQUENCE:3
DTSTAMP:20260425T002726Z
URL:https://business.fergusfalls.com/events/details/orchestra-fundraiser-upbc-37225
END:VEVENT

END:VCALENDAR
