BEGIN:VCALENDAR
VERSION:2.0
PRODID:-//ChamberMaster//Event Calendar 2.0//EN
METHOD:PUBLISH
X-PUBLISHED-TTL:P3D
REFRESH-INTERVAL:P3D
CALSCALE:GREGORIAN
BEGIN:VEVENT
DTSTART:20160319T150000Z
DTEND:20160319T160000Z
X-MICROSOFT-CDO-ALLDAYEVENT:FALSE
SUMMARY:Organic Raised Bed Gardening Workshop
DESCRIPTION:Are you interested in learning about raised bed gardening? Please join me for an Organic Raised Bed Gardening workshop on Saturday\, March 19th\, from 10:00-11:00am at the Fergus Falls Public Library! I will cover everything you need to know about starting your gardening adventure - what materials are best for raised beds (and where to find them in town for the cheapest!)\, how to create the best soil mix\, what plants grow best in raised beds (and grow best together)\, and more. Soil nutrients\, season-extension\, and companion-planting will be covered\, as well.
X-ALT-DESC;FMTTYPE=text/html:<span class="_fbReactionComponent__eventDetailsContent fsl">Are you interested in learning about raised bed gardening? Please join me for an Organic Raised Bed Gardening workshop on Saturday\, March 19th\, from 10:00-11:00am at the Fergus Falls Public Library! I will cover everything you need to know about starting your gardening adventure - what materials are best for raised beds (and where to find them in town for the cheapest!)\, how to create the best soil mix\, what plants grow best in raised beds (and grow best together)\, and more. Soil nutrients\, season-extension\, and companion-planting will be covered\, as well.</span>
LOCATION:Show Map Hide Map Fergus Falls Public Library 205 Hampden Ave\, Fergus Falls\, Minnesota 56537
UID:e.314.32051
SEQUENCE:3
DTSTAMP:20260425T195848Z
URL:https://business.fergusfalls.com/events/details/organic-raised-bed-gardening-workshop-03-19-2016-32051
END:VEVENT

END:VCALENDAR
