BEGIN:VCALENDAR
VERSION:2.0
PRODID:-//ChamberMaster//Event Calendar 2.0//EN
METHOD:PUBLISH
X-PUBLISHED-TTL:P3D
REFRESH-INTERVAL:P3D
CALSCALE:GREGORIAN
BEGIN:VEVENT
DTSTART:20170329T133000Z
DTEND:20170329T193000Z
X-MICROSOFT-CDO-ALLDAYEVENT:FALSE
SUMMARY:OSHA 10 General Industry
DESCRIPTION:Lakes Country Service Cooperative is an OSHA Outreach training opportunity.  The OSHA Outreach Training Program for General Industry provides training for workers and employers on the recognition\, avoidance\, abatement\, and prevention of safety and health hazards in workplaces in general industry. This class will be delivered by an OSHA-authorized outreach trainer. Upon successful completion of the course\, participants will receive an OSHA General Industry Outreach completion card for the course completed.\n\n\n\nOSHA 10 General Industry\, March 29-30\, 8:30 AM - 2:30 PM \n\nThis class is intended to provide awareness of common job-related safety and health hazards and will cover specific OSHA standards of the course topics listed below.\n\n \n\nCourse Topics Include:\n\n	\n		\n			          Bloodborne Pathogens\n			          Hazard Communication/Employee Right to Know\n		\n		\n			          Electrical Safety\n			          Introduction to OSHA and the OSH Act\n		\n		\n			          Emergency Action Plan\n			          Machine Guarding\n		\n		\n			          Ergonomics\n			          Personal Protective Equipment\n		\n		\n			          Fall Protection\n			          Walking and Working Surfaces\n		\n	\n\n \n\nFee includes: Course material and lunch.\n\n\n\nThis is a voluntary program and does not meet the training requirements for any OSHA standards. None of the courses within the Outreach Training Program is considered a certification. \n\n \n\nQuestions? Contact Paula Pederson or Linette Hanson at 800-739-3273 or e-mail ppederson@lcsc.org or lhanson@lcsc.org.
X-ALT-DESC;FMTTYPE=text/html:<span style="font-family:calibri\,sans-serif"><span style="font-size:11.0pt">Lakes Country Service Cooperative is an OSHA Outreach training opportunity.&nbsp\; The OSHA Outreach Training Program for General Industry provides training for workers and employers on the recognition\, avoidance\, abatement\, and prevention of safety and health hazards in workplaces in general industry. This class will be delivered by an OSHA-authorized outreach trainer. Upon successful completion of the course\, participants will receive an OSHA General Industry Outreach completion card for the course completed.</span></span><br />\n<br />\n<strong><u><span style="color:#4F6228"><span style="font-family:calibri\,sans-serif"><span style="font-size:14.0pt">OSHA 10 General Industry</span></span></span></u></strong><strong><span style="color:#4F6228"><span style="font-family:calibri\,sans-serif"><span style="font-size:14.0pt">\, March 29-30\, </span></span></span></strong><strong><span style="color:#4F6228"><span style="font-family:calibri\,sans-serif"><span style="font-size:14.0pt">8:30 AM - 2:30 PM </span></span></span></strong><br />\n<span style="font-family:calibri\,sans-serif"><span style="font-size:12.0pt">This class is intended to provide awareness of common job-related safety and health hazards and will cover specific OSHA standards of the course topics listed below.</span></span><br />\n&nbsp\;<br />\n<u><span style="color:black"><span style="font-family:calibri\,sans-serif"><span style="font-size:12.0pt">Course Topics Include</span></span></span></u><span style="color:#76923C"><span style="font-family:calibri\,sans-serif"><span style="font-size:12.0pt">:</span></span></span>\n<table border="0" cellpadding="0" cellspacing="0" style="border-collapse:collapse\; border:none">\n	<tbody>\n		<tr>\n			<td style="height:16px\; vertical-align:top\; width:301px"><span style="color:black"><span style="font-family:calibri\,sans-serif"><span style="font-size:8.0pt">&middot\;&nbsp\;&nbsp\;&nbsp\;&nbsp\;&nbsp\;&nbsp\;&nbsp\;&nbsp\; Bloodborne Pathogens</span></span></span></td>\n			<td style="height:16px\; vertical-align:top\; width:416px"><span style="color:black"><span style="font-family:calibri\,sans-serif"><span style="font-size:8.0pt">&middot\;&nbsp\;&nbsp\;&nbsp\;&nbsp\;&nbsp\;&nbsp\;&nbsp\;&nbsp\; Hazard Communication/Employee Right to Know</span></span></span></td>\n		</tr>\n		<tr>\n			<td style="height:15px\; vertical-align:top\; width:301px"><span style="color:black"><span style="font-family:calibri\,sans-serif"><span style="font-size:8.0pt">&middot\;&nbsp\;&nbsp\;&nbsp\;&nbsp\;&nbsp\;&nbsp\;&nbsp\;&nbsp\; Electrical Safety</span></span></span></td>\n			<td style="height:15px\; vertical-align:top\; width:416px"><span style="color:black"><span style="font-family:calibri\,sans-serif"><span style="font-size:8.0pt">&middot\;&nbsp\;&nbsp\;&nbsp\;&nbsp\;&nbsp\;&nbsp\;&nbsp\;&nbsp\; Introduction to OSHA and the OSH Act</span></span></span></td>\n		</tr>\n		<tr>\n			<td style="height:18px\; vertical-align:top\; width:301px"><span style="color:black"><span style="font-family:calibri\,sans-serif"><span style="font-size:8.0pt">&middot\;&nbsp\;&nbsp\;&nbsp\;&nbsp\;&nbsp\;&nbsp\;&nbsp\;&nbsp\; Emergency Action Plan</span></span></span></td>\n			<td style="height:18px\; vertical-align:top\; width:416px"><span style="color:black"><span style="font-family:calibri\,sans-serif"><span style="font-size:8.0pt">&middot\;&nbsp\;&nbsp\;&nbsp\;&nbsp\;&nbsp\;&nbsp\;&nbsp\;&nbsp\; Machine Guarding</span></span></span></td>\n		</tr>\n		<tr>\n			<td style="height:17px\; vertical-align:top\; width:301px"><span style="color:black"><span style="font-family:calibri\,sans-serif"><span style="font-size:8.0pt">&middot\;&nbsp\;&nbsp\;&nbsp\;&nbsp\;&nbsp\;&nbsp\;&nbsp\;&nbsp\; Ergonomics</span></span></span></td>\n			<td style="height:17px\; vertical-align:top\; width:416px"><span style="color:black"><span style="font-family:calibri\,sans-serif"><span style="font-size:8.0pt">&middot\;&nbsp\;&nbsp\;&nbsp\;&nbsp\;&nbsp\;&nbsp\;&nbsp\;&nbsp\; Personal Protective Equipment</span></span></span></td>\n		</tr>\n		<tr>\n			<td style="height:17px\; vertical-align:top\; width:301px"><span style="color:black"><span style="font-family:calibri\,sans-serif"><span style="font-size:8.0pt">&middot\;&nbsp\;&nbsp\;&nbsp\;&nbsp\;&nbsp\;&nbsp\;&nbsp\;&nbsp\; Fall Protection</span></span></span></td>\n			<td style="height:17px\; vertical-align:top\; width:416px"><span style="color:black"><span style="font-family:calibri\,sans-serif"><span style="font-size:8.0pt">&middot\;&nbsp\;&nbsp\;&nbsp\;&nbsp\;&nbsp\;&nbsp\;&nbsp\;&nbsp\; Walking and Working Surfaces</span></span></span></td>\n		</tr>\n	</tbody>\n</table>\n&nbsp\;<br />\n<span style="color:#244061"><span style="font-family:calibri\,sans-serif"><span style="font-size:11.0pt">Fee includes: Course material and lunch.</span></span></span><br />\n<br />\n<strong><span style="font-family:calibri\,sans-serif"><span style="font-size:11.0pt">This is a voluntary program and does not meet the training requirements for any OSHA standards. None of the courses within the Outreach Training Program is considered a certification. </span></span></strong><br />\n&nbsp\;<br />\n<strong><span style="font-family:calibri\,sans-serif"><span style="font-size:11.0pt">Questions?</span></span></strong><span style="font-family:calibri\,sans-serif"><span style="font-size:11.0pt"> Contact Paula Pederson or Linette Hanson at 800-739-3273 or e-mail ppederson@lcsc.org or </span></span><a href="mailto:lhanson@lcsc.org"><span style="color:black"><span style="font-family:calibri\,sans-serif"><span style="font-size:11.0pt">lhanson@lcsc.org</span></span></span></a><span style="color:black"><span style="font-family:calibri\,sans-serif"><span style="font-size:11.0pt">.</span></span></span>&nbsp\;&nbsp\;<br />\n&nbsp\;
LOCATION:Lakes Country Service Cooperative Classroom
UID:e.314.38706
SEQUENCE:3
DTSTAMP:20260424T224801Z
URL:https://business.fergusfalls.com/events/details/osha-10-general-industry-38706
END:VEVENT

END:VCALENDAR
