BEGIN:VCALENDAR
VERSION:2.0
PRODID:-//ChamberMaster//Event Calendar 2.0//EN
METHOD:PUBLISH
X-PUBLISHED-TTL:P3D
REFRESH-INTERVAL:P3D
CALSCALE:GREGORIAN
BEGIN:VEVENT
DTSTART:20180411T180000Z
DTEND:20180412T210000Z
X-MICROSOFT-CDO-ALLDAYEVENT:FALSE
SUMMARY:OSHA 10 Hour Course
DESCRIPTION:OSHA regulations that cover: Identification of hazards Prevention measures to minimize injury Electrical Safety Personal Protective Equipment (PPE) Hand & Power Tools Hoists & Rigging And more! Training is Interactive & Engaging\; Safety doesn't have to be boring!
X-ALT-DESC;FMTTYPE=text/html:OSHA regulations that cover: Identification of hazards Prevention measures to minimize injury Electrical Safety Personal Protective Equipment (PPE) Hand &amp\; Power Tools Hoists &amp\; Rigging And more! Training is Interactive &amp\; Engaging\; Safety doesn&#39\;t have to be boring!
LOCATION:Holiday Inn 5637 MN Hwy 29 Alexandria MN
UID:e.314.47370
SEQUENCE:3
DTSTAMP:20260423T235159Z
URL:https://business.fergusfalls.com/events/details/osha-10-hour-course-47370
END:VEVENT

END:VCALENDAR
