BEGIN:VCALENDAR
VERSION:2.0
PRODID:-//ChamberMaster//Event Calendar 2.0//EN
METHOD:PUBLISH
X-PUBLISHED-TTL:P3D
REFRESH-INTERVAL:P3D
CALSCALE:GREGORIAN
BEGIN:VEVENT
DTSTART:20170418T130000Z
DTEND:20170418T220000Z
X-MICROSOFT-CDO-ALLDAYEVENT:FALSE
SUMMARY:OSHA 30 General Industry
DESCRIPTION:Lakes Country Service Cooperative is offering this Outreach training opportunity.  The OSHA Outreach Training Program for General Industry provides training for workers and employers on the recognition\, avoidance\, abatement\, and prevention of safety and health hazards in workplaces in general industry. This class will be delivered by an OSHA-authorized outreach trainer. Upon successful completion of the course\, participants will receive an OSHA General Industry Outreach completion card for the course completed.\n\n\n\nThe OSHA 30 hour class is intended for supervisors or workers with some safety responsibility.\n\nCourse Topics Include:\n\n	\n		\n			          Bloodborne Pathogens\n			          Lockout/Tagout\n		\n		\n			          Confined Spaces and Permit Required Confined Spaces\n			          Machine Guarding\n		\n		\n			          Electrical Safety\n			          Managing Safety and Health\n		\n		\n			          Emergency Action Plan\n			          Material Handling and Storage\n		\n		\n			          Ergonomics\n			          Personal Protective Equipment\n		\n		\n			          Fall Protection\n			          Walking and Working Surfaces\n		\n		\n			          Hazard Communication/Employee Right to Know\n			          Welding Cutting and Brazing\n		\n		\n			          Introduction to OSHA and the OSH Act\n			 \n		\n	\n\n \n\nFee includes: Course material and lunch.\n\n\n\nThis is a voluntary program and does not meet the training requirements for any OSHA standards. None of the courses within the Outreach Training Program is considered a certification. \n\n \n\nQuestions? Contact Paula Pederson or Linette Hanson at 800-739-3273 or e-mail ppederson@lcsc.org or lhanson@lcsc.org.
X-ALT-DESC;FMTTYPE=text/html:<span style="font-family:calibri\,sans-serif"><span style="font-size:11.0pt">Lakes Country Service Cooperative is offering this Outreach training opportunity.&nbsp\; The OSHA Outreach Training Program for General Industry provides training for workers and employers on the recognition\, avoidance\, abatement\, and prevention of safety and health hazards in workplaces in general industry. This class will be delivered by an OSHA-authorized outreach trainer. Upon successful completion of the course\, participants will receive an OSHA General Industry Outreach completion card for the course completed.</span><br />\n<br />\n<span style="font-size:12.0pt">The OSHA 30 hour class is intended for supervisors or workers with some safety responsibility.</span></span><br />\n<u><span style="font-family:calibri\,sans-serif"><span style="font-size:12.0pt">Course Topics Include:</span></span></u>\n<table border="0" cellpadding="0" cellspacing="0" style="border-collapse:collapse\; border:none">\n	<tbody>\n		<tr>\n			<td style="height:21px\; vertical-align:top\; width:310px"><span style="font-family:calibri\,sans-serif"><span style="font-size:8.0pt">&middot\;&nbsp\;&nbsp\;&nbsp\;&nbsp\;&nbsp\;&nbsp\;&nbsp\;&nbsp\; Bloodborne Pathogens</span></span></td>\n			<td style="height:21px\; vertical-align:top\; width:211px"><span style="font-family:calibri\,sans-serif"><span style="font-size:8.0pt">&middot\;&nbsp\;&nbsp\;&nbsp\;&nbsp\;&nbsp\;&nbsp\;&nbsp\;&nbsp\; Lockout/Tagout</span></span></td>\n		</tr>\n		<tr>\n			<td style="height:21px\; vertical-align:top\; width:310px"><span style="font-family:calibri\,sans-serif"><span style="font-size:8.0pt">&middot\;&nbsp\;&nbsp\;&nbsp\;&nbsp\;&nbsp\;&nbsp\;&nbsp\;&nbsp\; Confined Spaces and Permit Required Confined Spaces</span></span></td>\n			<td style="height:21px\; vertical-align:top\; width:211px"><span style="font-family:calibri\,sans-serif"><span style="font-size:8.0pt">&middot\;&nbsp\;&nbsp\;&nbsp\;&nbsp\;&nbsp\;&nbsp\;&nbsp\;&nbsp\; Machine Guarding</span></span></td>\n		</tr>\n		<tr>\n			<td style="height:21px\; vertical-align:top\; width:310px"><span style="font-family:calibri\,sans-serif"><span style="font-size:8.0pt">&middot\;&nbsp\;&nbsp\;&nbsp\;&nbsp\;&nbsp\;&nbsp\;&nbsp\;&nbsp\; Electrical Safety</span></span></td>\n			<td style="height:21px\; vertical-align:top\; width:211px"><span style="font-family:calibri\,sans-serif"><span style="font-size:8.0pt">&middot\;&nbsp\;&nbsp\;&nbsp\;&nbsp\;&nbsp\;&nbsp\;&nbsp\;&nbsp\; Managing Safety and Health</span></span></td>\n		</tr>\n		<tr>\n			<td style="height:21px\; vertical-align:top\; width:310px"><span style="font-family:calibri\,sans-serif"><span style="font-size:8.0pt">&middot\;&nbsp\;&nbsp\;&nbsp\;&nbsp\;&nbsp\;&nbsp\;&nbsp\;&nbsp\; Emergency Action Plan</span></span></td>\n			<td style="height:21px\; vertical-align:top\; width:211px"><span style="font-family:calibri\,sans-serif"><span style="font-size:8.0pt">&middot\;&nbsp\;&nbsp\;&nbsp\;&nbsp\;&nbsp\;&nbsp\;&nbsp\;&nbsp\; Material Handling and Storage</span></span></td>\n		</tr>\n		<tr>\n			<td style="height:21px\; vertical-align:top\; width:310px"><span style="font-family:calibri\,sans-serif"><span style="font-size:8.0pt">&middot\;&nbsp\;&nbsp\;&nbsp\;&nbsp\;&nbsp\;&nbsp\;&nbsp\;&nbsp\; Ergonomics</span></span></td>\n			<td style="height:21px\; vertical-align:top\; width:211px"><span style="font-family:calibri\,sans-serif"><span style="font-size:8.0pt">&middot\;&nbsp\;&nbsp\;&nbsp\;&nbsp\;&nbsp\;&nbsp\;&nbsp\;&nbsp\; Personal Protective Equipment</span></span></td>\n		</tr>\n		<tr>\n			<td style="height:21px\; vertical-align:top\; width:310px"><span style="font-family:calibri\,sans-serif"><span style="font-size:8.0pt">&middot\;&nbsp\;&nbsp\;&nbsp\;&nbsp\;&nbsp\;&nbsp\;&nbsp\;&nbsp\; Fall Protection</span></span></td>\n			<td style="height:21px\; vertical-align:top\; width:211px"><span style="font-family:calibri\,sans-serif"><span style="font-size:8.0pt">&middot\;&nbsp\;&nbsp\;&nbsp\;&nbsp\;&nbsp\;&nbsp\;&nbsp\;&nbsp\; Walking and Working Surfaces</span></span></td>\n		</tr>\n		<tr>\n			<td style="height:21px\; vertical-align:top\; width:310px"><span style="font-family:calibri\,sans-serif"><span style="font-size:8.0pt">&middot\;&nbsp\;&nbsp\;&nbsp\;&nbsp\;&nbsp\;&nbsp\;&nbsp\;&nbsp\; Hazard Communication/Employee Right to Know</span></span></td>\n			<td style="height:21px\; vertical-align:top\; width:211px"><span style="font-family:calibri\,sans-serif"><span style="font-size:8.0pt">&middot\;&nbsp\;&nbsp\;&nbsp\;&nbsp\;&nbsp\;&nbsp\;&nbsp\;&nbsp\; Welding Cutting and Brazing</span></span></td>\n		</tr>\n		<tr>\n			<td style="height:21px\; vertical-align:top\; width:310px"><span style="font-family:calibri\,sans-serif"><span style="font-size:8.0pt">&middot\;&nbsp\;&nbsp\;&nbsp\;&nbsp\;&nbsp\;&nbsp\;&nbsp\;&nbsp\; Introduction to OSHA and the OSH Act</span></span></td>\n			<td style="height:21px\; vertical-align:top\; width:211px">&nbsp\;</td>\n		</tr>\n	</tbody>\n</table>\n&nbsp\;<br />\n<span style="color:#244061"><span style="font-family:calibri\,sans-serif"><span style="font-size:11.0pt">Fee includes: Course material and lunch.</span></span></span><br />\n<br />\n<strong><span style="font-family:calibri\,sans-serif"><span style="font-size:11.0pt">This is a voluntary program and does not meet the training requirements for any OSHA standards. None of the courses within the Outreach Training Program is considered a certification. </span></span></strong><br />\n&nbsp\;<br />\n<strong><span style="font-family:calibri\,sans-serif"><span style="font-size:11.0pt">Questions?</span></span></strong><span style="font-family:calibri\,sans-serif"><span style="font-size:11.0pt"> Contact Paula Pederson or Linette Hanson at 800-739-3273 or e-mail ppederson@lcsc.org or </span></span><a href="mailto:lhanson@lcsc.org"><span style="color:black"><span style="font-family:calibri\,sans-serif"><span style="font-size:11.0pt">lhanson@lcsc.org</span></span></span></a><span style="color:black"><span style="font-family:calibri\,sans-serif"><span style="font-size:11.0pt">.</span></span></span>&nbsp\;&nbsp\;<br />\n<br />\n<br />\n&nbsp\;
LOCATION:Lakes Country Service Cooperative Classroom
UID:e.314.38715
SEQUENCE:3
DTSTAMP:20260424T210208Z
URL:https://business.fergusfalls.com/events/details/osha-30-general-industry-04-18-2017-38715
END:VEVENT

END:VCALENDAR
