BEGIN:VCALENDAR
VERSION:2.0
PRODID:-//ChamberMaster//Event Calendar 2.0//EN
METHOD:PUBLISH
X-PUBLISHED-TTL:P3D
REFRESH-INTERVAL:P3D
CALSCALE:GREGORIAN
BEGIN:VEVENT
DTSTART:20191231T220000Z
DTEND:20200101T000000Z
X-MICROSOFT-CDO-ALLDAYEVENT:FALSE
SUMMARY:Otter Cove New Year’s Eve Party & Balloon Drop
DESCRIPTION:We are excited to host a very special\, kid-friendly\, New Year's Eve Party! We will have unique and engaging crafts and activities\, a dance party\, face painting\, snack\, and a special count down balloon event to celebrate the new year.\n\n\n\nLocation: Bethel Lutheran Church\n\nTime: 4:00-6:00pm!\n\nBalloon count down: 5:45pm!\n\n\n\n$20/family (eventbrite link coming soon)\n\n$25/family at the door
X-ALT-DESC;FMTTYPE=text/html:<div class="_63ew" data-testid="event-permalink-details"><span>We are excited to host a very special\, kid-friendly\, New Year&rsquo\;s Eve Party! We will have unique and engaging crafts and activities\, a dance party\, face painting\, snack\, and a special count down balloon event to celebrate the new year.<br />\n<br />\nLocation: Bethel Lutheran Church<br />\nTime: 4:00-6:00pm!<br />\nBalloon count down: 5:45pm!<br />\n<br />\n$20/family (eventbrite link coming soon)<br />\n$25/family at the door</span></div>\n
LOCATION:Tuesday\, December 31\, 2019 at 4 PM 6 PM
UID:e.314.56021
SEQUENCE:3
DTSTAMP:20260422T190755Z
URL:https://business.fergusfalls.com/events/details/otter-cove-new-year-s-eve-party-balloon-drop-56021
END:VEVENT

END:VCALENDAR
