BEGIN:VCALENDAR
VERSION:2.0
PRODID:-//ChamberMaster//Event Calendar 2.0//EN
METHOD:PUBLISH
X-PUBLISHED-TTL:P3D
REFRESH-INTERVAL:P3D
CALSCALE:GREGORIAN
BEGIN:VEVENT
DTSTART:20210715T221500Z
DTEND:20210716T003000Z
X-MICROSOFT-CDO-ALLDAYEVENT:FALSE
SUMMARY:Otter Cove Ribbon Cutting and Open House
DESCRIPTION:Join us as we celebrate the official ribbon cutting for Otter Cove Children's Museum!\n\n	Enjoy light refreshments\n	Take a tour and explore our exhibits\n	Do a scavenger hunt around the museum\n	Meet the artists whose work is featured throughout Otter Cove
X-ALT-DESC;FMTTYPE=text/html:Join us as we celebrate the official ribbon cutting for Otter Cove Children&#39\;s Museum!\n<ul>\n	<li>Enjoy light refreshments</li>\n	<li>Take a tour and explore our exhibits</li>\n	<li>Do a scavenger hunt around the museum</li>\n	<li>Meet the artists whose work is featured throughout Otter Cove</li>\n</ul>\n
LOCATION:Otter Cove Children's Museum 105 W. Lincoln Avenue Fergus Falls\, MN
UID:e.314.62452
SEQUENCE:3
DTSTAMP:20260421T112022Z
URL:https://business.fergusfalls.com/events/details/otter-cove-ribbon-cutting-and-open-house-62452
END:VEVENT

END:VCALENDAR
