BEGIN:VCALENDAR
VERSION:2.0
PRODID:-//ChamberMaster//Event Calendar 2.0//EN
METHOD:PUBLISH
X-PUBLISHED-TTL:P3D
REFRESH-INTERVAL:P3D
CALSCALE:GREGORIAN
BEGIN:VEVENT
DTSTART:20150911T220000Z
DTEND:20150912T000000Z
X-MICROSOFT-CDO-ALLDAYEVENT:FALSE
SUMMARY:Otter Pride Night
DESCRIPTION:Don't Forget to Wear Maroon & Gold! Event held at the Kennedy Secondary School Gold Gym - kids games\, House of Fun\, meet Otto the Otter\, Otter Booster Club will sell vintage Otter Football jerseys\, serving taco in a bag for $3.00. Proceeds benefit the 544 Education Foundation.
X-ALT-DESC;FMTTYPE=text/html:Don&#39\;t Forget to Wear Maroon &amp\; Gold! Event held at the Kennedy Secondary School Gold Gym - kids games\, House of Fun\, meet Otto the Otter\, Otter Booster Club will sell vintage Otter Football jerseys\, serving taco in a bag for $3.00. Proceeds benefit the 544 Education Foundation.<br />\n<br />\n&nbsp\;
LOCATION:Kennedy Secondary School - Gold Gym
UID:e.314.24049
SEQUENCE:3
DTSTAMP:20260426T043811Z
URL:https://business.fergusfalls.com/events/details/otter-pride-night-09-11-2015-24049
END:VEVENT

END:VCALENDAR
