BEGIN:VCALENDAR
VERSION:2.0
PRODID:-//ChamberMaster//Event Calendar 2.0//EN
METHOD:PUBLISH
X-PUBLISHED-TTL:P3D
REFRESH-INTERVAL:P3D
CALSCALE:GREGORIAN
BEGIN:VEVENT
DTSTART:20180914T220000Z
DTEND:20180915T000000Z
X-MICROSOFT-CDO-ALLDAYEVENT:FALSE
SUMMARY:OTTER PRIDE NIGHT
DESCRIPTION:OTTER PRIDE NIGHT \n\n	Kennedy Secondary School\n	Kids Games\n	House of Fun\n	Meet Otto the Otter\n	Serving Taco in a bag meal $5
X-ALT-DESC;FMTTYPE=text/html:<span style="font-size: 24px\;"><strong>OTTER PRIDE NIGHT </strong></span>\n<ul>\n	<li>Kennedy Secondary School</li>\n	<li>Kids Games</li>\n	<li>House of Fun</li>\n	<li>Meet Otto the Otter</li>\n	<li>Serving Taco in a bag meal $5</li>\n</ul>\n
LOCATION:601 Randolph Ave Fergus Falls\, MN
UID:e.314.50333
SEQUENCE:3
DTSTAMP:20260423T175824Z
URL:https://business.fergusfalls.com/events/details/otter-pride-night-50333
END:VEVENT

END:VCALENDAR
