BEGIN:VCALENDAR
VERSION:2.0
PRODID:-//ChamberMaster//Event Calendar 2.0//EN
METHOD:PUBLISH
X-PUBLISHED-TTL:P3D
REFRESH-INTERVAL:P3D
CALSCALE:GREGORIAN
BEGIN:VEVENT
DTSTART:20190906T220000Z
DTEND:20190907T000000Z
X-MICROSOFT-CDO-ALLDAYEVENT:FALSE
SUMMARY:OTTER PRIDE NIGHT
DESCRIPTION:
X-ALT-DESC;FMTTYPE=text/html:
LOCATION:
UID:e.314.54568
SEQUENCE:3
DTSTAMP:20260422T222335Z
URL:https://business.fergusfalls.com/events/details/otter-pride-night-54568
END:VEVENT

END:VCALENDAR
