BEGIN:VCALENDAR
VERSION:2.0
PRODID:-//ChamberMaster//Event Calendar 2.0//EN
METHOD:PUBLISH
X-PUBLISHED-TTL:P3D
REFRESH-INTERVAL:P3D
CALSCALE:GREGORIAN
BEGIN:VEVENT
DTSTART:20191106T130000Z
DTEND:20191106T140000Z
X-MICROSOFT-CDO-ALLDAYEVENT:FALSE
SUMMARY:Otter Risers Kiwanis
DESCRIPTION:Join us for our weekly meeting. Meetings start at 7 with food provided by the hospital. We have a different speaker each week. Our speaker this week is Jordan Rasmusson\, New Consulting Business.
X-ALT-DESC;FMTTYPE=text/html:Join us for our weekly meeting. Meetings start at 7 with food provided by the hospital. We have a different speaker each week.&nbsp\;Our speaker this week is Jordan Rasmusson\, New Consulting Business.
LOCATION:Basement Conference room of the Hospital
UID:e.314.55416
SEQUENCE:3
DTSTAMP:20260422T185754Z
URL:https://business.fergusfalls.com/events/details/otter-risers-kiwanis-11-06-2019-55416
END:VEVENT

END:VCALENDAR
