BEGIN:VCALENDAR
VERSION:2.0
PRODID:-//ChamberMaster//Event Calendar 2.0//EN
METHOD:PUBLISH
X-PUBLISHED-TTL:P3D
REFRESH-INTERVAL:P3D
CALSCALE:GREGORIAN
BEGIN:VEVENT
DTSTART:20191204T130000Z
DTEND:20191204T140000Z
X-MICROSOFT-CDO-ALLDAYEVENT:FALSE
SUMMARY:Otter Risers Kiwanis
DESCRIPTION:Join us for our weekly meeting. Meetings start at 7 with food provided by the hospital.\n\n\n\nCheck Give-Away at Pioneer Care.
X-ALT-DESC;FMTTYPE=text/html:Join us for our weekly meeting. Meetings start at 7 with food provided by the hospital.<strong><br />\n<br />\nCheck Give-Away at Pioneer Care.</strong>
LOCATION:Basement Conference room of the Hospital
UID:e.314.55420
SEQUENCE:3
DTSTAMP:20260422T171909Z
URL:https://business.fergusfalls.com/events/details/otter-risers-kiwanis-12-04-2019-55420
END:VEVENT

END:VCALENDAR
