BEGIN:VCALENDAR
VERSION:2.0
PRODID:-//ChamberMaster//Event Calendar 2.0//EN
METHOD:PUBLISH
X-PUBLISHED-TTL:P3D
REFRESH-INTERVAL:P3D
CALSCALE:GREGORIAN
BEGIN:VEVENT
DTSTART:20191211T130000Z
DTEND:20191211T140000Z
X-MICROSOFT-CDO-ALLDAYEVENT:FALSE
SUMMARY:Otter Risers Kiwanis
DESCRIPTION:Join us for our weekly meeting. Meetings start at 7 with food provided by the hospital. \n\n\n\nToday's meeting will be held offsite at the Career Center at M State.
X-ALT-DESC;FMTTYPE=text/html:Join us for our weekly meeting. Meetings start at 7 with food provided by the hospital.&nbsp\;<br />\n<br />\n<strong>Today&#39\;s meeting will be held offsite at the Career Center at M State.</strong>
LOCATION:M State
UID:e.314.55421
SEQUENCE:3
DTSTAMP:20260422T171910Z
URL:https://business.fergusfalls.com/events/details/otter-risers-kiwanis-12-11-2019-55421
END:VEVENT

END:VCALENDAR
