BEGIN:VCALENDAR
VERSION:2.0
PRODID:-//ChamberMaster//Event Calendar 2.0//EN
METHOD:PUBLISH
X-PUBLISHED-TTL:P3D
REFRESH-INTERVAL:P3D
CALSCALE:GREGORIAN
BEGIN:VEVENT
DTSTART:20191023T120000Z
DTEND:20191023T130000Z
X-MICROSOFT-CDO-ALLDAYEVENT:FALSE
SUMMARY:Otter Risers Kiwanis
DESCRIPTION:Join us for our weekly meeting. Meetings start at 7 with food provided by the hospital. We have a different speaker each week. This week we have Nicole Lalum of Explore MN!
X-ALT-DESC;FMTTYPE=text/html:Join us for our weekly meeting. Meetings start at 7 with food provided by the hospital. We have a different speaker each week.&nbsp\;This week we have Nicole Lalum of Explore MN!
LOCATION:Basement Conference room of the Hospital
UID:e.314.54817
SEQUENCE:3
DTSTAMP:20260422T203539Z
URL:https://business.fergusfalls.com/events/details/otter-risers-kiwanis-54817
END:VEVENT

END:VCALENDAR
