BEGIN:VCALENDAR
VERSION:2.0
PRODID:-//ChamberMaster//Event Calendar 2.0//EN
METHOD:PUBLISH
X-PUBLISHED-TTL:P3D
REFRESH-INTERVAL:P3D
CALSCALE:GREGORIAN
BEGIN:VEVENT
DTSTART:20190925T115000Z
DTEND:20190925T130000Z
X-MICROSOFT-CDO-ALLDAYEVENT:FALSE
SUMMARY:Otter Risers Meeting
DESCRIPTION:Join us for our weekly meeting for a variety of different speakers and subjects.
X-ALT-DESC;FMTTYPE=text/html:Join us for our weekly meeting for a variety of different speakers and subjects.
LOCATION:Lower Level of Hospital
UID:e.314.54736
SEQUENCE:3
DTSTAMP:20260422T222333Z
URL:https://business.fergusfalls.com/events/details/otter-risers-meeting-54736
END:VEVENT

END:VCALENDAR
