BEGIN:VCALENDAR
VERSION:2.0
PRODID:-//ChamberMaster//Event Calendar 2.0//EN
METHOD:PUBLISH
X-PUBLISHED-TTL:P3D
REFRESH-INTERVAL:P3D
CALSCALE:GREGORIAN
BEGIN:VEVENT
DTSTART:20191204T150000Z
DTEND:20191204T210000Z
X-MICROSOFT-CDO-ALLDAYEVENT:FALSE
SUMMARY:Otter Tail County Housing Summit
DESCRIPTION:Join us for the launch of the Otter Tail County 'Big Build'\, an intentional effort to expand housing opportunities and reinvestment throughout the county. Learn more and register at www.BigBuildOTC.com.
X-ALT-DESC;FMTTYPE=text/html:Join us for the launch of the Otter Tail County &#39\;Big Build&#39\;\, an intentional effort to expand housing opportunities and reinvestment throughout the county. Learn more and register at www.BigBuildOTC.com.
LOCATION:Thumper Pond Resort 300 Thumper Lodge Road\, Ottertail
UID:e.314.55799
SEQUENCE:3
DTSTAMP:20260422T171746Z
URL:https://business.fergusfalls.com/events/details/otter-tail-county-housing-summit-55799
END:VEVENT

END:VCALENDAR
