BEGIN:VCALENDAR
VERSION:2.0
PRODID:-//ChamberMaster//Event Calendar 2.0//EN
METHOD:PUBLISH
X-PUBLISHED-TTL:P3D
REFRESH-INTERVAL:P3D
CALSCALE:GREGORIAN
BEGIN:VEVENT
DTSTART:20191119T233000Z
DTEND:20191120T010000Z
X-MICROSOFT-CDO-ALLDAYEVENT:FALSE
SUMMARY:Otter Tail County Long Range Strategic Plan Open House
DESCRIPTION:The public is invited to attend open house meetings to discuss the Otter Tail County Long-Range Strategic Plan. The open house meeting will run from 5:30 pm - 7 pm\, with a formal presentation at 6:00 pm. Please visit the Plan website at https://ottertailcountymn.us/project/otter-tail-county-long-range-strategic-plan/ for additional information.
X-ALT-DESC;FMTTYPE=text/html:The public is invited to attend open house meetings to discuss the Otter Tail County Long-Range Strategic Plan. The open house meeting will run from 5:30 pm - 7 pm\, with a formal presentation at 6:00 pm. Please visit the Plan website at https://ottertailcountymn.us/project/otter-tail-county-long-range-strategic-plan/ for additional information.
LOCATION:Government Service Center 520 West Fir Avenue Fergus Falls\, MN
UID:e.314.55814
SEQUENCE:3
DTSTAMP:20260422T185824Z
URL:https://business.fergusfalls.com/events/details/otter-tail-county-long-range-strategic-plan-open-house-55814
END:VEVENT

END:VCALENDAR
