BEGIN:VCALENDAR
VERSION:2.0
PRODID:-//ChamberMaster//Event Calendar 2.0//EN
METHOD:PUBLISH
X-PUBLISHED-TTL:P3D
REFRESH-INTERVAL:P3D
CALSCALE:GREGORIAN
BEGIN:VEVENT
DTSTART;VALUE=DATE:20210603
DTEND;VALUE=DATE:20210701
TRANSP:TRANSPARENT
X-MICROSOFT-CDO-ALLDAYEVENT:TRUE
SUMMARY:Otter Tail County Outstanding Senior Citizen
DESCRIPTION:Otter Tail County Outstanding Senior Citizen\n\nOtter Tail County is looking for nominations for our Outstanding Senior Citizen's. Explain why you are nominating this person for the Outstanding Senior Citizen Award. It is helpful to give specific\, detailed and precise examples to assist the judges in choosing the winners. Do not hesitate to interview the person you are nominating. Nomination does not need to be kept secret. You may also speak to people at the organizations where the individual volunteers. Political and religious organization involvement will only be considered when it benefits the community. All information will be held in confidence by judges. Information submitted is not returned unless a request is made. Download this form 2021 OTC Outstanding Senor Citizen Form\, fill it out and then submit your nomination. You may only nominate one individual per nomination form.
X-ALT-DESC;FMTTYPE=text/html:<span style="color:#3A3A3A\;"><span style="font-family:verdana\,sans-serif\;"><span style="font-size:18.0pt\;">Otter Tail County Outstanding Senior Citizen</span></span></span><br />\n<span style="color:#3A3A3A\;"><span style="font-family:verdana\,sans-serif\;"><span style="font-size:13.5pt\;">Otter Tail County is looking for nominations for our Outstanding Senior Citizen&rsquo\;s. Explain why you are nominating this person for the Outstanding Senior Citizen Award. It is helpful to give specific\, detailed and precise examples to assist the judges in choosing the winners. Do not hesitate to interview the person you are nominating. Nomination does not need to be kept secret. You may also speak to people at the organizations where the individual volunteers. Political and religious organization involvement will only be considered when it benefits the community. All information will be held in confidence by judges. Information submitted is not returned unless a request is made. <strong>Download this form</strong>&nbsp\;<a href="https://ottertailcountymn.us/wp-content/uploads/2021/06/2021-OTC-Outstanding-Senor-Citizen-Form.pdf"><span style="border:none windowtext 1.0pt\;padding:0in\;"><span style="color:#0274BE\;">2021 OTC Outstanding Senor Citizen Form</span></span></a>\, <strong>fill it out and then&nbsp\;submit your nomination</strong>. You may only nominate&nbsp\;<em><span style="border:none windowtext 1.0pt\;padding:0in\;">one individual</span></em>&nbsp\;per nomination form.</span></span></span><br />\n<br />\n&nbsp\;
LOCATION:
UID:e.314.62413
SEQUENCE:3
DTSTAMP:20260421T135113Z
URL:https://business.fergusfalls.com/events/details/otter-tail-county-outstanding-senior-citizen-62413
END:VEVENT

END:VCALENDAR
