BEGIN:VCALENDAR
VERSION:2.0
PRODID:-//ChamberMaster//Event Calendar 2.0//EN
METHOD:PUBLISH
X-PUBLISHED-TTL:P3D
REFRESH-INTERVAL:P3D
CALSCALE:GREGORIAN
BEGIN:VEVENT
DTSTART:20210921T170000Z
DTEND:20210921T180000Z
X-MICROSOFT-CDO-ALLDAYEVENT:FALSE
SUMMARY:Otter Tail County Workforce Meeting
DESCRIPTION:Otter Tail County quarterly workforce partners and employers meeting The OTC Works workforce strategy will be a guide for the conversation. The discussion will be structured around the 3 action areas of the strategy and each guest will highlight an opportunity\, training tool\, and connection example: Opportunity- Clara Wegscheid\, CareerForce: Promoting CareerForce's October 13 JobFest as an opportunity for employers Training- Chet Bodin\, DEED Workforce Strategy: Share tangible tools and tips that employers can implement in their recruiting and hiring process Connection Example- Amy Hochgraber\, M State Workforce Development Solutions & Amy Feland\, CAPLP: Share about M State's partnership with Lakes & Prairies Community Action Partnership and United Way Cass-Clay to develop a successful worker readiness and skills training program
X-ALT-DESC;FMTTYPE=text/html:Otter Tail County quarterly workforce partners and employers meeting The OTC Works workforce strategy will be a guide for the conversation. The discussion will be structured around the 3 action areas of the strategy and each guest will highlight an opportunity\, training tool\, and connection example: Opportunity- Clara Wegscheid\, CareerForce: Promoting CareerForce&rsquo\;s October 13 JobFest as an opportunity for employers Training- Chet Bodin\, DEED Workforce Strategy: Share tangible tools and tips that employers can implement in their recruiting and hiring process Connection Example- Amy Hochgraber\, M State Workforce Development Solutions &amp\; Amy Feland\, CAPLP: Share about M State&rsquo\;s partnership with Lakes &amp\; Prairies Community Action Partnership and United Way Cass-Clay to develop a successful worker readiness and skills training program
LOCATION:Virtual
UID:e.314.63609
SEQUENCE:3
DTSTAMP:20260421T082952Z
URL:https://business.fergusfalls.com/events/details/otter-tail-county-workforce-meeting-63609
END:VEVENT

END:VCALENDAR
