BEGIN:VCALENDAR
VERSION:2.0
PRODID:-//ChamberMaster//Event Calendar 2.0//EN
METHOD:PUBLISH
X-PUBLISHED-TTL:P3D
REFRESH-INTERVAL:P3D
CALSCALE:GREGORIAN
BEGIN:VEVENT
DTSTART:20160413T133000Z
DTEND:20160413T180000Z
X-MICROSOFT-CDO-ALLDAYEVENT:FALSE
SUMMARY:Ottertail Food Drop for People in Need
DESCRIPTION:UNITED WAY AND THE JEAN ADELINE JOHNSON FUND OF INFAITH COMMUNITY FOUNDATION COORDINATE A MOBILE FOOD DROP FOR PEOPLE IN NEED\, WEDNESDAY\, APRIL 13TH AT THE OTTERTAIL COMMUNITY CENTER\n\n\n\nThere will be a mobile food drop for residents of Otter Tail County in in Ottertail City on April 13th at the Ottertail Community Center. Registration will start no earlier than 8:30am and food will be distributed at 11:00am. You must be a resident of Otter Tail County and in need of food to participate. Please bring boxes or baskets to carry the food. Participants will also be able to connect with human service organizations at this event.\n\nMany volunteers are also needed to help with the event.\n\nTime and place to Volunteer: Wedn...esday\, April 13th 2016 from 9:30am   1pm at the Ottertail Community Center - 93 Lake Avenue South\, Ottertail\, MN 56571\n\n\n\nVolunteers needed for:\n\nShift one: 9:30am   11:00am - Set up and unload truck\n\nShift two: 11:00am   1:00pm   Program & food distribution\n\nShift Three: 1:00pm   Clean up\n\nPlease contact Christi Stoll at 218-770-9406 or volunteeruwotc@yahoo.com to volunteer.\n\n\n\nOther assignments:\n\n1. Set up location.\n\n2. Unload the semi-truck.\n\n3. Set food up on tables.\n\n4. Walking participants through the food line.\n\n5. Deliver food to participants' vehicles.\n\n6. Manage long lines\n\n7. Cleanup\n\n\n\nThis food drop is sponsored by the the Jean Adeline Johnson Fund Of Infaith Community Foundation\, United Way of Otter Tail County\, and North Country Food Bank of Crookston.\n\nFor a listing of programs and initiatives funded by United Way of Otter Tail County or to make a contribution to United Way to IMPROVE LIVES\, call the United Way office at 218.736.5147 or go to www.uwotc.com.
X-ALT-DESC;FMTTYPE=text/html:<div class="text_exposed_root text_exposed" id="id_56ec3b378ac623c42909073"><span class="_fbReactionComponent__eventDetailsContent fsl">UNITED WAY AND THE JEAN ADELINE JOHNSON FUND OF INFAITH COMMUNITY FOUNDATION COORDINATE A MOBILE FOOD DROP FOR PEOPLE IN NEED\, WEDNESDAY\, APRIL 13TH AT THE OTTERTAIL COMMUNITY CENTER<br />\n<br />\nThere will be a mobile food drop for residents of Otter Tail County in in Ottertail City on April 13th at the Ottertail Community Center. Registration will start no earlier than 8:30am and food will be distributed at 11:00am. You must be a resident of Otter Tail County and in need of food to participate. Please bring boxes or baskets to carry the food. Participants will also be able to connect with human service organizations at this event.<br />\nMany volunteers are also needed to help with the event.<br />\nTime and place to Volunteer: Wedn<span class="text_exposed_hide">...</span><span class="text_exposed_show">esday\, April 13th 2016 from 9:30am &ndash\; 1pm at the Ottertail Community Center - 93 Lake Avenue South\, Ottertail\, MN 56571<br />\n<br />\nVolunteers needed for:<br />\nShift one: 9:30am &ndash\; 11:00am - Set up and unload truck<br />\nShift two: 11:00am &ndash\; 1:00pm &ndash\; Program &amp\; food distribution<br />\nShift Three: 1:00pm &ndash\; Clean up<br />\nPlease contact Christi Stoll at 218-770-9406 or volunteeruwotc@yahoo.com to volunteer.<br />\n<br />\nOther assignments:<br />\n1. Set up location.<br />\n2. Unload the semi-truck.<br />\n3. Set food up on tables.<br />\n4. Walking participants through the food line.<br />\n5. Deliver food to participants&#39\; vehicles.<br />\n6. Manage long lines<br />\n7. Cleanup<br />\n<br />\nThis food drop is sponsored by the the Jean Adeline Johnson Fund Of Infaith Community Foundation\, United Way of Otter Tail County\, and North Country Food Bank of Crookston.<br />\nFor a listing of programs and initiatives funded by United Way of Otter Tail County or to make a contribution to United Way to IMPROVE LIVES\, call the United Way office at 218.736.5147 or go to <a href="http://www.uwotc.com/" rel="nofollow nofollow" target="_blank"><font color="#0066cc">www.uwotc.com.</font></a></span></span></div>\n
LOCATION:Ottertail Community Center 103 Lake Ave S\, Ottertail\, Minnesota 56571
UID:e.314.32053
SEQUENCE:3
DTSTAMP:20260425T163226Z
URL:https://business.fergusfalls.com/events/details/ottertail-food-drop-for-people-in-need-04-13-2016-32053
END:VEVENT

END:VCALENDAR
