BEGIN:VCALENDAR
VERSION:2.0
PRODID:-//ChamberMaster//Event Calendar 2.0//EN
METHOD:PUBLISH
X-PUBLISHED-TTL:P3D
REFRESH-INTERVAL:P3D
CALSCALE:GREGORIAN
BEGIN:VEVENT
DTSTART:20160416T150000Z
DTEND:20160416T180000Z
X-MICROSOFT-CDO-ALLDAYEVENT:FALSE
SUMMARY:Outdoor Classroom/Prairie Restoration Project
DESCRIPTION:We continue to move ahead with the plans for the college's Outdoor Classroom/Prairie Restoration Project. The land will be ready (weather permitting) for volunteers to pick rock. Our primary day will be April 16 with a weather back-up date of April 30. We need help for the rocks that are larger than football size and too small for a skid loader. Bring your organization or service group. The more the merrier and will make the work lighter. Please bring gloves.
X-ALT-DESC;FMTTYPE=text/html:<span class="_fbReactionComponent__eventDetailsContent fsl">We continue to move ahead with the plans for the college&#39\;s Outdoor Classroom/Prairie Restoration Project. The land will be ready (weather permitting) for volunteers to pick rock. Our primary day will be <strong>April 16 </strong>with a <strong>weather back-up date of April 30</strong>. We need help for the rocks that are larger than football size and too small for a skid loader. Bring your organization or service group. The more the merrier and will make the work lighter. Please bring gloves.</span>
LOCATION:Show Map Hide Map M-State Fergus Falls Fergus Falls\, Minnesota 56537
UID:e.314.32383
SEQUENCE:3
DTSTAMP:20260425T163932Z
URL:https://business.fergusfalls.com/events/details/outdoor-classroom-prairie-restoration-project-04-16-2016-32383
END:VEVENT

END:VCALENDAR
