BEGIN:VCALENDAR
VERSION:2.0
PRODID:-//ChamberMaster//Event Calendar 2.0//EN
METHOD:PUBLISH
X-PUBLISHED-TTL:P3D
REFRESH-INTERVAL:P3D
CALSCALE:GREGORIAN
BEGIN:VEVENT
DTSTART:20200215T160000Z
DTEND:20200215T200000Z
X-MICROSOFT-CDO-ALLDAYEVENT:FALSE
SUMMARY:Outstanding Firearms & Sporting Auction
DESCRIPTION:Large selection of Winchester firearms\, ammo\, boat\, sporting.\n\n75+ firearms\n\n2011 Alumacraft Lunker II 16.5' aluminum fishing boat - 40 hp Yamaha 4 stroke outboard
X-ALT-DESC;FMTTYPE=text/html:Large selection of Winchester firearms\, ammo\, boat\, sporting.<br />\n75+ firearms<br />\n2011 Alumacraft Lunker II 16.5&#39\; aluminum fishing boat - 40 hp Yamaha 4 stroke outboard
LOCATION:Dalton Community Center Downtown Dalton\, MN
UID:e.314.56252
SEQUENCE:3
DTSTAMP:20260422T155651Z
URL:https://business.fergusfalls.com/events/details/outstanding-firearms-sporting-auction-56252
END:VEVENT

END:VCALENDAR
