BEGIN:VCALENDAR
VERSION:2.0
PRODID:-//ChamberMaster//Event Calendar 2.0//EN
METHOD:PUBLISH
X-PUBLISHED-TTL:P3D
REFRESH-INTERVAL:P3D
CALSCALE:GREGORIAN
BEGIN:VEVENT
DTSTART;VALUE=DATE:20181201
DTEND;VALUE=DATE:20181202
TRANSP:TRANSPARENT
X-MICROSOFT-CDO-ALLDAYEVENT:TRUE
SUMMARY:Over the River Holiday Festival
DESCRIPTION:Join us for a community-wide Holiday celebration featuring an art crawl\, outdoor holiday (artisan) market\, kids' activities\, horse-drawn carriage rides\, live music\, tree lighting\, and fireworks.\n\n\n\nKick off the day by shopping locally and end it at Wright Park with tree lighting and fireworks with the family!\n\n\nSchedule of Events: \n\n\n	10 AM - Downtown Stores open -- double entries for Chamber's "Shop\, Drop 'n Win"\n	11 AM - Holiday Art & Artisan Market at the Depot\n	11AM-3PM Chamber office open - Register for "Shop\, Drop 'n Win" or purchase Fergus Bucks\n	12-5 PM - Holiday Art Crawl\n	12-5 PM - Dave Messenger Flamingo art activity & Mee Lee homemade magnets @ Springboard for the Arts\n	12-5 PM - Pedi-cab Rides sponsored by Pedal Fergus Falls\n	12-5 PM - Horse-drawn Carriage Rides sponsored by Cooper's Office Supply& Pemberton Law Office\n	12-1 PM - Meet 'n Greet w/ former Vikings RB - Ted Brown @ Lincoln Nutrition\n	12:30-1 PM - Community Orchestra @ City Hall\n	1 PM - Re-dedication of the Bronze "Worker" statue\n	1-3 PM - Free showing of "The Nativity Story" @ Cornerstone Church on Lincoln\n	1-5 PM - Live Music on Court Street\n	\n		2-2:30 PM - Mona LaValley\n		3-3:30 PM - Hillcrest Worship Choir\n		4-4:30 PM - 204th Army Brass Band Quintet\n	\n	\n	2-5:30 PM - Dance & Desserts @ A Center for the Arts\n	2-6 PM - Kids Activities @ City Hall sponsored by Year of Play\n	2-6 PM - Decorate a Cookie & Holiday Maze by Children's Corner\n	2-5 PM - Holiday Outdoor Vendor Market coordinated by Kaddatz \n	\n		Various artisan craft & food vendors\n	\n	\n	4-6 PM - Selfies w/ Santa @ City Hall\n	4 Pm - Christmas Cantata "Adoration of Images" at Federated Church\n	5-6 PM - Christmas Social & Carols @ City Hall\n	\n		5:30-6 PM - Front & Center Singers @ City Hall\n	\n	\n	6:30 PM - Tree Lighting Ceremony & Fireworks @ Wright Park\n	7 PM - Festival of Trees in Downtown Fergus Falls\n	\n		Drive or walk-thru on your own
X-ALT-DESC;FMTTYPE=text/html:<div class="_63ew" data-testid="event-permalink-details"><span>Join us for a community-wide Holiday celebration featuring an art crawl\, outdoor holiday (artisan) market\, kids&#39\; activities\, horse-drawn carriage rides\, live music\, tree lighting\, and fireworks.<br />\n<br />\nKick off the day by shopping locally and end it at Wright Park with tree lighting and fireworks with the family!</span></div>\n<br />\n<span style="color: rgb(29\, 33\, 41)\; font-family: Helvetica\, Arial\, sans-serif\; font-size: 14px\; background-color: rgb(255\, 255\, 255)\;"><strong>Schedule of Events:&nbsp\;</strong></span>\n\n<ul>\n	<li style="outline: none\; box-sizing: border-box\; margin: 0px\; padding: 0px\; border: 0px\; font-weight: inherit\; font-style: inherit\; font-family: inherit\; vertical-align: baseline\;">10 AM - Downtown Stores open -- double entries for Chamber&#39\;s &quot\;Shop\, Drop &#39\;n Win&quot\;</li>\n	<li style="outline: none\; box-sizing: border-box\; margin: 0px\; padding: 0px\; border: 0px\; font-weight: inherit\; font-style: inherit\; font-family: inherit\; vertical-align: baseline\;">11 AM -&nbsp\;<a href="https://www.facebook.com/events/311320366346797/" style="box-sizing: border-box\; margin: 0px\; padding: 0px\; border: 0px\; font-weight: inherit\; font-style: inherit\; font-family: inherit\; vertical-align: baseline\; transition: all 0.1s ease-in 0s\; background-color: transparent\; color: rgb(11\, 182\, 151)\; outline: none !important\; text-decoration-line: none !important\;">Holiday Art &amp\; Artisan Market at the Depot</a></li>\n	<li style="outline: none\; box-sizing: border-box\; margin: 0px\; padding: 0px\; border: 0px\; font-weight: inherit\; font-style: inherit\; font-family: inherit\; vertical-align: baseline\;">11AM-3PM Chamber office open - Register for &quot\;Shop\, Drop &#39\;n Win&quot\; or purchase Fergus Bucks</li>\n	<li style="outline: none\; box-sizing: border-box\; margin: 0px\; padding: 0px\; border: 0px\; font-weight: inherit\; font-style: inherit\; font-family: inherit\; vertical-align: baseline\;">12-5 PM - Holiday Art Crawl</li>\n	<li style="outline: none\; box-sizing: border-box\; margin: 0px\; padding: 0px\; border: 0px\; font-weight: inherit\; font-style: inherit\; font-family: inherit\; vertical-align: baseline\;">12-5 PM - Dave Messenger Flamingo art activity &amp\; Mee Lee homemade magnets @&nbsp\;<a href="https://springboardforthearts.org/programs/imagine-fergus-falls/" style="box-sizing: border-box\; margin: 0px\; padding: 0px\; border: 0px\; font-weight: inherit\; font-style: inherit\; font-family: inherit\; vertical-align: baseline\; transition: all 0.1s ease-in 0s\; background-color: transparent\; color: rgb(11\, 182\, 151)\; outline: none !important\; text-decoration-line: none !important\;">Springboard for the Arts</a></li>\n	<li style="outline: none\; box-sizing: border-box\; margin: 0px\; padding: 0px\; border: 0px\; font-weight: inherit\; font-style: inherit\; font-family: inherit\; vertical-align: baseline\;">12-5 PM - Pedi-cab Rides sponsored by&nbsp\;<a href="http://www.pedalff.org/" style="box-sizing: border-box\; margin: 0px\; padding: 0px\; border: 0px\; font-weight: inherit\; font-style: inherit\; font-family: inherit\; vertical-align: baseline\; transition: all 0.1s ease-in 0s\; background-color: transparent\; color: rgb(11\, 182\, 151)\; outline: none !important\; text-decoration-line: none !important\;">Pedal Fergus Falls</a></li>\n	<li style="outline: none\; box-sizing: border-box\; margin: 0px\; padding: 0px\; border: 0px\; font-weight: inherit\; font-style: inherit\; font-family: inherit\; vertical-align: baseline\;">12-5 PM - Horse-drawn Carriage Rides sponsored by&nbsp\;<a href="http://www.coopersinc.com/" style="box-sizing: border-box\; margin: 0px\; padding: 0px\; border: 0px\; font-weight: inherit\; font-style: inherit\; font-family: inherit\; vertical-align: baseline\; transition: all 0.1s ease-in 0s\; background-color: transparent\; color: rgb(11\, 182\, 151)\; outline: none !important\; text-decoration-line: none !important\;">Cooper&#39\;s Office Supply</a>&amp\;&nbsp\;<a href="http://www.pemlaw.com/" style="box-sizing: border-box\; margin: 0px\; padding: 0px\; border: 0px\; font-weight: inherit\; font-style: inherit\; font-family: inherit\; vertical-align: baseline\; transition: all 0.1s ease-in 0s\; background-color: transparent\; color: rgb(11\, 182\, 151)\; outline: none !important\; text-decoration-line: none !important\;">Pemberton Law Office</a></li>\n	<li style="outline: none\; box-sizing: border-box\; margin: 0px\; padding: 0px\; border: 0px\; font-weight: inherit\; font-style: inherit\; font-family: inherit\; vertical-align: baseline\;">12-1 PM -&nbsp\;Meet &#39\;n Greet w/ former Vikings RB - Ted Brown @ Lincoln Nutrition</li>\n	<li style="outline: none\; box-sizing: border-box\; margin: 0px\; padding: 0px\; border: 0px\; font-weight: inherit\; font-style: inherit\; font-family: inherit\; vertical-align: baseline\;">12:30-1 PM - Community Orchestra @ City Hall</li>\n	<li style="outline: none\; box-sizing: border-box\; margin: 0px\; padding: 0px\; border: 0px\; font-weight: inherit\; font-style: inherit\; font-family: inherit\; vertical-align: baseline\;">1 PM - Re-dedication of the Bronze &quot\;Worker&quot\; statue</li>\n	<li style="outline: none\; box-sizing: border-box\; margin: 0px\; padding: 0px\; border: 0px\; font-weight: inherit\; font-style: inherit\; font-family: inherit\; vertical-align: baseline\;">1-3 PM - Free showing of &quot\;The Nativity Story&quot\; @ Cornerstone Church on Lincoln</li>\n	<li style="outline: none\; box-sizing: border-box\; margin: 0px\; padding: 0px\; border: 0px\; font-weight: inherit\; font-style: inherit\; font-family: inherit\; vertical-align: baseline\;">1-5 PM - Live Music on Court Street\n	<ul style="outline: none\; box-sizing: border-box\; margin: 0px 0px 0px 25px\; padding-right: 0px\; padding-left: 0px\; border: 0px\; font-weight: inherit\; font-style: inherit\; font-family: inherit\; vertical-align: baseline\; list-style-type: none\; list-style-image: url(&quot\;assets/images/list-style.png&quot\;)\; position: relative\; z-index: 2\;">\n		<li style="outline: none\; box-sizing: border-box\; margin: 0px\; padding: 0px\; border: 0px\; font-weight: inherit\; font-style: inherit\; font-family: inherit\; vertical-align: baseline\;">2-2:30 PM -&nbsp\;<a href="https://www.facebook.com/Mona-LaValley-Ministries-595887840572900/" style="box-sizing: border-box\; margin: 0px\; padding: 0px\; border: 0px\; font-weight: inherit\; font-style: inherit\; font-family: inherit\; vertical-align: baseline\; transition: all 0.1s ease-in 0s\; background-color: transparent\; color: rgb(11\, 182\, 151)\; outline: none !important\; text-decoration-line: none !important\;">Mona LaValley</a></li>\n		<li style="outline: none\; box-sizing: border-box\; margin: 0px\; padding: 0px\; border: 0px\; font-weight: inherit\; font-style: inherit\; font-family: inherit\; vertical-align: baseline\;">3-3:30 PM -&nbsp\;<a href="https://www.ffhillcrest.org/" style="box-sizing: border-box\; margin: 0px\; padding: 0px\; border: 0px\; font-weight: inherit\; font-style: inherit\; font-family: inherit\; vertical-align: baseline\; transition: all 0.1s ease-in 0s\; background-color: transparent\; color: rgb(11\, 182\, 151)\; outline: none !important\; text-decoration-line: none !important\;">Hillcrest Worship Choir</a></li>\n		<li style="outline: none\; box-sizing: border-box\; margin: 0px\; padding: 0px\; border: 0px\; font-weight: inherit\; font-style: inherit\; font-family: inherit\; vertical-align: baseline\;">4-4:30 PM -&nbsp\;<a href="http://www.music.army.mil/organizations/pages/?unit=451AB&amp\;p=history" style="box-sizing: border-box\; margin: 0px\; padding: 0px\; border: 0px\; font-weight: inherit\; font-style: inherit\; font-family: inherit\; vertical-align: baseline\; transition: all 0.1s ease-in 0s\; background-color: transparent\; color: rgb(11\, 182\, 151)\; outline: none !important\; text-decoration-line: none !important\;">204th Army Brass Band Quintet</a></li>\n	</ul>\n	</li>\n	<li style="outline: none\; box-sizing: border-box\; margin: 0px\; padding: 0px\; border: 0px\; font-weight: inherit\; font-style: inherit\; font-family: inherit\; vertical-align: baseline\;">2-5:30 PM -&nbsp\;<a href="https://app.arts-people.com/index.php?performance=413510" style="box-sizing: border-box\; margin: 0px\; padding: 0px\; border: 0px\; font-weight: inherit\; font-style: inherit\; font-family: inherit\; vertical-align: baseline\; transition: all 0.1s ease-in 0s\; background-color: transparent\; color: rgb(11\, 182\, 151)\; outline: none !important\; text-decoration-line: none !important\;">Dance &amp\; Desserts @ A Center for the Arts</a></li>\n	<li style="outline: none\; box-sizing: border-box\; margin: 0px\; padding: 0px\; border: 0px\; font-weight: inherit\; font-style: inherit\; font-family: inherit\; vertical-align: baseline\;">2-6 PM - Kids Activities @ City Hall sponsored by&nbsp\;<a href="https://www.yearofplay.com/" style="box-sizing: border-box\; margin: 0px\; padding: 0px\; border: 0px\; font-weight: inherit\; font-style: inherit\; font-family: inherit\; vertical-align: baseline\; transition: all 0.1s ease-in 0s\; background-color: transparent\; color: rgb(11\, 182\, 151)\; outline: none !important\; text-decoration-line: none !important\;">Year of Play</a></li>\n	<li style="outline: none\; box-sizing: border-box\; margin: 0px\; padding: 0px\; border: 0px\; font-weight: inherit\; font-style: inherit\; font-family: inherit\; vertical-align: baseline\;">2-6 PM - Decorate a Cookie &amp\; Holiday Maze by Children&#39\;s Corner</li>\n	<li style="outline: none\; box-sizing: border-box\; margin: 0px\; padding: 0px\; border: 0px\; font-weight: inherit\; font-style: inherit\; font-family: inherit\; vertical-align: baseline\;">2-5 PM - Holiday Outdoor Vendor Market coordinated by&nbsp\;<a href="https://kaddatzgalleries.org/holiday-art-crawl-2018/" style="box-sizing: border-box\; margin: 0px\; padding: 0px\; border: 0px\; font-weight: inherit\; font-style: inherit\; font-family: inherit\; vertical-align: baseline\; transition: all 0.1s ease-in 0s\; background-color: transparent\; color: rgb(11\, 182\, 151)\; outline: none !important\; text-decoration-line: none !important\;">Kaddatz&nbsp\;</a>\n	<ul style="outline: none\; box-sizing: border-box\; margin: 0px 0px 0px 25px\; padding-right: 0px\; padding-left: 0px\; border: 0px\; font-weight: inherit\; font-style: inherit\; font-family: inherit\; vertical-align: baseline\; list-style-type: none\; list-style-image: url(&quot\;assets/images/list-style.png&quot\;)\; position: relative\; z-index: 2\;">\n		<li style="outline: none\; box-sizing: border-box\; margin: 0px\; padding: 0px\; border: 0px\; font-weight: inherit\; font-style: inherit\; font-family: inherit\; vertical-align: baseline\;">Various artisan craft &amp\; food vendors</li>\n	</ul>\n	</li>\n	<li style="outline: none\; box-sizing: border-box\; margin: 0px\; padding: 0px\; border: 0px\; font-weight: inherit\; font-style: inherit\; font-family: inherit\; vertical-align: baseline\;">4-6 PM -&nbsp\;<a href="https://www.facebook.com/MasterSantaMN/" style="box-sizing: border-box\; margin: 0px\; padding: 0px\; border: 0px\; font-weight: inherit\; font-style: inherit\; font-family: inherit\; vertical-align: baseline\; transition: all 0.1s ease-in 0s\; background-color: transparent\; color: rgb(11\, 182\, 151)\; outline: none !important\; text-decoration-line: none !important\;">Selfies w/ Santa</a>&nbsp\;@ City Hall</li>\n	<li style="outline: none\; box-sizing: border-box\; margin: 0px\; padding: 0px\; border: 0px\; font-weight: inherit\; font-style: inherit\; font-family: inherit\; vertical-align: baseline\;">4 Pm - Christmas Cantata &quot\;Adoration of Images&quot\; at&nbsp\;<a href="https://www.facebook.com/openheartsmindsarms/" style="box-sizing: border-box\; margin: 0px\; padding: 0px\; border: 0px\; font-weight: inherit\; font-style: inherit\; font-family: inherit\; vertical-align: baseline\; transition: all 0.1s ease-in 0s\; background-color: transparent\; color: rgb(11\, 182\, 151)\; outline: none !important\; text-decoration-line: none !important\;">Federated Church</a></li>\n	<li style="outline: none\; box-sizing: border-box\; margin: 0px\; padding: 0px\; border: 0px\; font-weight: inherit\; font-style: inherit\; font-family: inherit\; vertical-align: baseline\;">5-6 PM - Christmas Social &amp\; Carols @ City Hall\n	<ul style="outline: none\; box-sizing: border-box\; margin: 0px 0px 0px 25px\; padding-right: 0px\; padding-left: 0px\; border: 0px\; font-weight: inherit\; font-style: inherit\; font-family: inherit\; vertical-align: baseline\; list-style-type: none\; list-style-image: url(&quot\;assets/images/list-style.png&quot\;)\; position: relative\; z-index: 2\;">\n		<li style="outline: none\; box-sizing: border-box\; margin: 0px\; padding: 0px\; border: 0px\; font-weight: inherit\; font-style: inherit\; font-family: inherit\; vertical-align: baseline\;">5:30-6 PM -&nbsp\;<a href="https://www.facebook.com/frontcentersingers/" style="box-sizing: border-box\; margin: 0px\; padding: 0px\; border: 0px\; font-weight: inherit\; font-style: inherit\; font-family: inherit\; vertical-align: baseline\; transition: all 0.1s ease-in 0s\; background-color: transparent\; color: rgb(11\, 182\, 151)\; outline: none !important\; text-decoration-line: none !important\;">Front &amp\; Center Singers</a>&nbsp\;@ City Hall</li>\n	</ul>\n	</li>\n	<li style="outline: none\; box-sizing: border-box\; margin: 0px\; padding: 0px\; border: 0px\; font-weight: inherit\; font-style: inherit\; font-family: inherit\; vertical-align: baseline\;">6:30 PM - Tree Lighting Ceremony &amp\; Fireworks @ Wright Park</li>\n	<li style="outline: none\; box-sizing: border-box\; margin: 0px\; padding: 0px\; border: 0px\; font-weight: inherit\; font-style: inherit\; font-family: inherit\; vertical-align: baseline\;">7 PM - Festival of Trees in Downtown Fergus Falls\n	<ul style="outline: none\; box-sizing: border-box\; margin: 0px 0px 0px 25px\; padding-right: 0px\; padding-left: 0px\; border: 0px\; font-weight: inherit\; font-style: inherit\; font-family: inherit\; vertical-align: baseline\; list-style-type: none\; list-style-image: url(&quot\;assets/images/list-style.png&quot\;)\; position: relative\; z-index: 2\;">\n		<li style="outline: none\; box-sizing: border-box\; margin: 0px\; padding: 0px\; border: 0px\; font-weight: inherit\; font-style: inherit\; font-family: inherit\; vertical-align: baseline\;"><em style="outline: none\; box-sizing: border-box\; margin: 0px\; padding: 0px\; border: 0px\; font-weight: inherit\; font-family: inherit\; vertical-align: baseline\;">Drive or walk-thru on your own</em></li>\n	</ul>\n	</li>\n</ul>\n
LOCATION:Fergus Falls\, Minnesota
UID:e.314.50474
SEQUENCE:3
DTSTAMP:20260423T133916Z
URL:https://business.fergusfalls.com/events/details/over-the-river-holiday-festival-50474
END:VEVENT

END:VCALENDAR
