BEGIN:VCALENDAR
VERSION:2.0
PRODID:-//ChamberMaster//Event Calendar 2.0//EN
METHOD:PUBLISH
X-PUBLISHED-TTL:P3D
REFRESH-INTERVAL:P3D
CALSCALE:GREGORIAN
BEGIN:VEVENT
DTSTART:20260419T190000Z
DTEND:20260419T210000Z
X-MICROSOFT-CDO-ALLDAYEVENT:FALSE
SUMMARY:Pack 325 - Pinewood Derby/Open Houe
DESCRIPTION:Come on out and show your support of our cub scout's in their first Pinewood Derby event. Registration for race is at 2pm with heats to follow for cub scouts\, cub's family members and an open to the public class.
X-ALT-DESC;FMTTYPE=text/html:Come on out and show your support of our cub scout&#39\;s in their first Pinewood Derby event. Registration for race is at 2pm with heats to follow for cub scouts\, cub&#39\;s family members and an open to the public class.
LOCATION:Underwood Community Center
UID:e.314.77130
SEQUENCE:3
DTSTAMP:20260421T085046Z
URL:https://business.fergusfalls.com/events/details/pack-325-pinewood-derby-open-houe-77130
END:VEVENT

END:VCALENDAR
