BEGIN:VCALENDAR
VERSION:2.0
PRODID:-//ChamberMaster//Event Calendar 2.0//EN
METHOD:PUBLISH
X-PUBLISHED-TTL:P3D
REFRESH-INTERVAL:P3D
CALSCALE:GREGORIAN
BEGIN:VEVENT
DTSTART:20191217T233000Z
DTEND:20191218T030000Z
X-MICROSOFT-CDO-ALLDAYEVENT:FALSE
SUMMARY:Pack the House MN MOTOR Night Round 2
DESCRIPTION:
X-ALT-DESC;FMTTYPE=text/html:<div class="_6a _6b">\n<div class="_xkh">\n<div class="_5xhp fsm fwn fcg">&nbsp\;</div>\n</div>\n</div>\n
LOCATION:Kennedy Secondary School - Fergus Falls 601 Randolph Ave\, Fergus Falls\, Minnesota 56537
UID:e.314.56001
SEQUENCE:3
DTSTAMP:20260422T172146Z
URL:https://business.fergusfalls.com/events/details/pack-the-house-mn-motor-night-round-2-56001
END:VEVENT

END:VCALENDAR
