BEGIN:VCALENDAR
VERSION:2.0
PRODID:-//ChamberMaster//Event Calendar 2.0//EN
METHOD:PUBLISH
X-PUBLISHED-TTL:P3D
REFRESH-INTERVAL:P3D
CALSCALE:GREGORIAN
BEGIN:VEVENT
DTSTART:20190114T170000Z
DTEND:20190114T180000Z
X-MICROSOFT-CDO-ALLDAYEVENT:FALSE
SUMMARY:Pain Management Education
DESCRIPTION:LEARN HOW TO MANAGE YOUR EVERYDAY ACHES & PAINS Education will include pain assessments that will help identify types and effects of pain\, medication management and treatment options.
X-ALT-DESC;FMTTYPE=text/html:LEARN HOW TO MANAGE YOUR EVERYDAY ACHES &amp\; PAINS Education will include pain assessments that will help identify types and effects of pain\, medication management and treatment options.
LOCATION:Fergus Falls Senior Center
UID:e.314.52363
SEQUENCE:3
DTSTAMP:20260423T105403Z
URL:https://business.fergusfalls.com/events/details/pain-management-education-52363
END:VEVENT

END:VCALENDAR
