BEGIN:VCALENDAR
VERSION:2.0
PRODID:-//ChamberMaster//Event Calendar 2.0//EN
METHOD:PUBLISH
X-PUBLISHED-TTL:P3D
REFRESH-INTERVAL:P3D
CALSCALE:GREGORIAN
BEGIN:VEVENT
DTSTART:20170321T233000Z
DTEND:20170322T020000Z
X-MICROSOFT-CDO-ALLDAYEVENT:FALSE
SUMMARY:Paint & Sip- Home is Where the Heart Is
DESCRIPTION:Relax\, Unwind\, and Paint! For $30 you'll get everything you need to create this personalized canvas\, including your first drink!\n\n\n\nJoin us as we welcome Tamra Sirek of Gallary on the Go\, to guide us in painting this cozy canvas honoring whichever state you call "Home". Other state outlines are available if you'd like to design a gift for someone else.\n\n\n\nSpace is limited! Reply below or text Sharon at 218-205-2662 to reserve your spot today!
X-ALT-DESC;FMTTYPE=text/html:<span class="_4n-j _3cht fsl" data-testid="event-permalink-details">Relax\, Unwind\, and Paint! For $30 you&#39\;ll get everything you need to create this personalized canvas\, including your first drink!<br />\n<br />\nJoin us as we welcome Tamra Sirek of Gallary on the Go\, to guide us in painting this cozy canvas honoring whichever state you call &quot\;Home&quot\;. Other state outlines are available if you&#39\;d like to design a gift for someone else.<br />\n<br />\nSpace is limited! Reply below or text Sharon at 218-205-2662 to reserve your spot today!</span>
LOCATION:Fergus Falls VFW Post 612 Auxillary 420 E Washington Ave Fergus Falls
UID:e.314.38805
SEQUENCE:3
DTSTAMP:20260424T211224Z
URL:https://business.fergusfalls.com/events/details/paint-sip-home-is-where-the-heart-is-38805
END:VEVENT

END:VCALENDAR
