BEGIN:VCALENDAR
VERSION:2.0
PRODID:-//ChamberMaster//Event Calendar 2.0//EN
METHOD:PUBLISH
X-PUBLISHED-TTL:P3D
REFRESH-INTERVAL:P3D
CALSCALE:GREGORIAN
BEGIN:VEVENT
DTSTART:20190414T150000Z
DTEND:20190414T173000Z
X-MICROSOFT-CDO-ALLDAYEVENT:FALSE
SUMMARY:Palm Sunday Breakfast and Festival
DESCRIPTION:Palm Sunday Festival and Breakfast \n\nGames\, arts & crafts\, live animals\, singing\, a trip to Holy Land.  For all ages!!\n\nFree will offering breakfast fundraiser.
X-ALT-DESC;FMTTYPE=text/html:<strong><span style="font-family:calibri\,sans-serif">Palm Sunday Festival and Breakfast</span></strong>&nbsp\;<br />\n<span style="font-family:calibri\,sans-serif">Games\, arts &amp\; crafts\, live animals\, singing\, a trip to Holy Land.&nbsp\; For all ages!!</span><br />\n<span style="font-family:calibri\,sans-serif">Free will offering breakfast fundraiser.</span>
LOCATION:First Lutheran Church 402 S. Court St. Fergus Falls\, MN 56537
UID:e.314.53052
SEQUENCE:3
DTSTAMP:20260423T063217Z
URL:https://business.fergusfalls.com/events/details/palm-sunday-breakfast-and-festival-53052
END:VEVENT

END:VCALENDAR
