BEGIN:VCALENDAR
VERSION:2.0
PRODID:-//ChamberMaster//Event Calendar 2.0//EN
METHOD:PUBLISH
X-PUBLISHED-TTL:P3D
REFRESH-INTERVAL:P3D
CALSCALE:GREGORIAN
BEGIN:VEVENT
DTSTART:20151125T000000Z
DTEND:20151125T010000Z
X-MICROSOFT-CDO-ALLDAYEVENT:FALSE
SUMMARY:Parent Only Class
DESCRIPTION:Parent Only Class (Focus on Ages 3-7)\; class will be taught by a licensed parent educator on what to expect at different stages in your child's life\; finding positive ways to guide and teach your child\; strengthening the parent/child relationship. Child care will be provided for children. Classes meet on Tuesdays for three weeks from November 24 to December 8\, 6:00 p.m. to 7:00 p.m.  To register\, call 218-998-0544\, ext. 9529. Children must be registered also. Classes held at Early Childhood Center\, 1519 Pebble Lake Road\; Fee: $8.50
X-ALT-DESC;FMTTYPE=text/html:Parent Only Class (Focus on Ages 3-7)\; class will be taught by a licensed parent educator on what to expect at different stages in your child&#39\;s life\; finding positive ways to guide and teach your child\; strengthening the parent/child relationship. Child care will be provided for children. Classes meet on Tuesdays for three weeks from November 24 to December 8\, 6:00 p.m. to 7:00 p.m. &nbsp\;To register\, call 218-998-0544\, ext. 9529. Children must be registered also. Classes held at Early Childhood Center\, 1519 Pebble Lake Road\; Fee: $8.50
LOCATION:
UID:e.314.24464
SEQUENCE:3
DTSTAMP:20260426T025041Z
URL:https://business.fergusfalls.com/events/details/parent-only-class-11-24-2015-24464
END:VEVENT

END:VCALENDAR
