BEGIN:VCALENDAR
VERSION:2.0
PRODID:-//ChamberMaster//Event Calendar 2.0//EN
METHOD:PUBLISH
X-PUBLISHED-TTL:P3D
REFRESH-INTERVAL:P3D
CALSCALE:GREGORIAN
BEGIN:VEVENT
DTSTART:20160612T010000Z
DTEND:20160612T050000Z
X-MICROSOFT-CDO-ALLDAYEVENT:FALSE
SUMMARY:Parking Lot Party
DESCRIPTION:Live music to Confusion Drinks and Food Street Dance in the Parking Lot
X-ALT-DESC;FMTTYPE=text/html:Live music to Confusion Drinks and Food Street Dance in the Parking Lot
LOCATION:z103 Bar and Grill Parking Lot
UID:e.314.32689
SEQUENCE:3
DTSTAMP:20260425T130602Z
URL:https://business.fergusfalls.com/events/details/parking-lot-party-06-11-2016-32689
END:VEVENT

END:VCALENDAR
