BEGIN:VCALENDAR
VERSION:2.0
PRODID:-//ChamberMaster//Event Calendar 2.0//EN
METHOD:PUBLISH
X-PUBLISHED-TTL:P3D
REFRESH-INTERVAL:P3D
CALSCALE:GREGORIAN
BEGIN:VEVENT
DTSTART:20210720T160000Z
DTEND:20210720T190000Z
X-MICROSOFT-CDO-ALLDAYEVENT:FALSE
SUMMARY:Parking Lot Picnic with Ole & Lena's & Aflac
DESCRIPTION:Join us for lunch at a "Parking Lot Picnic" celebrating summer & local businesses!\n\n	Ole & Lena's Food Truck -- Pizza!\n	\n		"Official Pizza Cutting" congratulating their deal with Walmart\n	\n	\n	Bean Bags\n	Duck Pond Drawings\n	Frozen Pizza Sales\n	Open House of commercial building. Tour office space available.\n\n Hosted by Aflac-Sheri Meis and Ole & Lena's Pizzeria
X-ALT-DESC;FMTTYPE=text/html:<span style="font-size:12px\;"><span style="font-family:verdana\;">Join us for lunch at a &quot\;Parking Lot Picnic&quot\; celebrating summer &amp\; local businesses!</span></span>\n<ul>\n	<li><span style="font-size:12px\;"><span style="font-family:verdana\;">Ole &amp\; Lena&#39\;s Food Truck -- Pizza!</span></span>\n	<ul>\n		<li><span style="font-size:12px\;"><span style="font-family:verdana\;">&quot\;Official Pizza Cutting&quot\; congratulating their deal with Walmart</span></span></li>\n	</ul>\n	</li>\n	<li><span style="font-size:12px\;"><span style="font-family:verdana\;">Bean Bags</span></span></li>\n	<li><span style="font-size:12px\;"><span style="font-family:verdana\;">Duck Pond Drawings</span></span></li>\n	<li><span style="font-size:12px\;"><span style="font-family:verdana\;">Frozen Pizza Sales</span></span></li>\n	<li><span style="font-size:12px\;"><span style="font-family:verdana\;">Open House of commercial building. Tour office space available.</span></span></li>\n</ul>\n<span style="font-size:12px\;"><span style="font-family:verdana\;"> Hosted by Aflac-Sheri Meis and Ole &amp\; Lena&#39\;s Pizzeria</span></span>
LOCATION:Aflac & Ole & Lena's Pizza 1008 Frontier Drive Fergus Falls\, MN (former SkyVision building)
UID:e.314.62442
SEQUENCE:3
DTSTAMP:20260421T112130Z
URL:https://business.fergusfalls.com/events/details/parking-lot-picnic-with-ole-lena-s-aflac-62442
END:VEVENT

END:VCALENDAR
