BEGIN:VCALENDAR
VERSION:2.0
PRODID:-//ChamberMaster//Event Calendar 2.0//EN
METHOD:PUBLISH
X-PUBLISHED-TTL:P3D
REFRESH-INTERVAL:P3D
CALSCALE:GREGORIAN
BEGIN:VEVENT
DTSTART:20160407T190000Z
DTEND:20160407T210000Z
X-MICROSOFT-CDO-ALLDAYEVENT:FALSE
SUMMARY:Parkinson's: Know More\, Live Better
DESCRIPTION:Parkinson's: Know More\, Live Better \n\nLocal Parkinson's Support Group Hosting National Parkinson's Foundation Speaker\n\n \n\n \n\n(FERGUS FALLS\, Minn.)   Lake Region Healthcare invites you to attend a special event in conjunction with The National Parkinson's Foundation of Minnesota.  The program is titled "Parkinson's: Know More\, Live Better" and will be held on Thursday\, April 7th at 2:00pm at Mill Street Residence in Fergus Falls. \n\n \n\nDr. Tanya Harlow\, MD and a Movement Disorder Specialist at the Sanford Neuroscience Center in Fargo\, will be presenting information on medications\, treatment options and resources for those who have Parkinson's. \n\n \n\nThere is no charge for this event though pre-registration is required. Please RSVP by Thursday\, March 31 by calling Mick Siems\, Facilitator of the local Parkinson's Support Group at 218.736.8590.\n\n  \n\nAbout Lake Region Healthcare\n\nLake Region Healthcare is living out its vision to be Minnesota's preeminent regional healthcare partner. With over 80 Medical Staff and over 900 employees\, its team is dedicated to serving its patients and community with integrity\, teamwork\, compassion and excellence. For more information about Lake Region Healthcare\, visit www.lrhc.org.
X-ALT-DESC;FMTTYPE=text/html:<strong><span style="font-size: 12pt\;"><span style="font-family: arial\,sans-serif\;">Parkinson&rsquo\;s: Know More\, Live Better </span></span></strong><br />\n<em><span style="font-size: 12pt\;"><span style="font-family: arial\,sans-serif\;">Local Parkinson&rsquo\;s Support Group Hosting National Parkinson&rsquo\;s Foundation Speaker</span></span></em><br />\n&nbsp\;<br />\n&nbsp\;<br />\n<span style="font-size: 10pt\;"><span style="font-family: arial\,sans-serif\;">(FERGUS FALLS\, Minn.) &ndash\; Lake Region Healthcare invites you to attend a special event in conjunction with The National Parkinson&rsquo\;s Foundation of Minnesota.&nbsp\; The program is titled &ldquo\;Parkinson&rsquo\;s: Know More\, Live Better&rdquo\; and will be held on Thursday\, April 7th at 2:00pm at Mill Street Residence in Fergus Falls. </span></span><br />\n&nbsp\;<br />\n<span style="font-size: 10pt\;"><span style="font-family: arial\,sans-serif\;">Dr. Tanya Harlow\, MD and a Movement Disorder Specialist at the Sanford Neuroscience Center in Fargo\, will be presenting information on medications\, treatment options and resources for those who have Parkinson&rsquo\;s. </span></span><br />\n&nbsp\;<br />\n<span style="font-size: 10pt\;"><span style="font-family: arial\,sans-serif\;">There is no charge for this event though pre-registration is required. Please RSVP by Thursday\, March 31 by calling Mick Siems\, Facilitator of the local Parkinson&rsquo\;s Support Group at 218.736.8590.</span></span><br />\n&nbsp\;&nbsp\;<br />\n<em><span style="font-size: 10pt\;"><span style="font-family: arial\,sans-serif\;">About Lake Region Healthcare</span></span></em><br />\n<span style="font-size: 10pt\;"><span style="font-family: arial\,sans-serif\;">Lake Region Healthcare&nbsp\;is living out its vision to be Minnesota&#39\;s preeminent regional healthcare partner. With over 80 Medical Staff and over 900 employees\, its team is dedicated to serving its patients and community with integrity\, teamwork\, compassion and excellence. For more information about Lake Region Healthcare\, visit </span></span><a href="http://www.lrhc.org/"><span style="font-size: 10pt\;"><span style="font-family: arial\,sans-serif\;"><span style="color: rgb(0\, 0\, 255)\;">www.lrhc.org</span></span></span></a><span style="font-size: 10pt\;"><span style="font-family: arial\,sans-serif\;">. </span></span><br />\n&nbsp\;
LOCATION:Mill Street Residence 802 South Mill Street Fergus Falls
UID:e.314.32066
SEQUENCE:3
DTSTAMP:20260425T162956Z
URL:https://business.fergusfalls.com/events/details/parkinson-s-know-more-live-better-04-07-2016-32066
END:VEVENT

END:VCALENDAR
