BEGIN:VCALENDAR
VERSION:2.0
PRODID:-//ChamberMaster//Event Calendar 2.0//EN
METHOD:PUBLISH
X-PUBLISHED-TTL:P3D
REFRESH-INTERVAL:P3D
CALSCALE:GREGORIAN
BEGIN:VEVENT
DTSTART:20160330T170000Z
DTEND:20160330T180000Z
X-MICROSOFT-CDO-ALLDAYEVENT:FALSE
SUMMARY:Patient & Family Advisory Council LRHC Kick Off Event
DESCRIPTION:LRH Implementing Patient & Family Advisory Council\n\nPublic Invited to Kick Off Speaker Lisa Juliar on the topic of Patient & Family Engagement\n\n \n\n(FERGUS FALLS\, MN)  Lake Region Healthcare (LRH) Community members are invited to an informative presentation about the importance of being involved in your healthcare experience and a new initiative designed to foster more patient involvement to improve the health care process. \n\n \n\nLisa Juliar will be the featured speaker this kick-off event to learn about new ways to become involved in the health care experience for yourself and your family as LRH prepares to develop a Patient & Family Advisory Council. Juliar currently partners with the Minnesota Hospital Association (MHA) as a Patient and Family Engagement (PFE) Consultant\, and is co-chair of the MHA Patient and Family Advisory Committee (PFAC)\, and for the past 4 years has served as the first consumer on the Minnesota Alliance for Patient Safety Board. \n\n \n\nUsing the MHA "Include Always" Patient Family Engagement (PFE) Model\, Lisa has inspired and educated hospitals & clinics on how to engage PFACs as the foundation for patient-centered care throughout the health system. After experiencing a negative healthcare event\, Lisa became passionate about sharing her story for positive results. Lisa's journey has been fueled by thinking "out of the box" in order to generate creative models of sustainable change for safer care and meaningful partnerships with patients.\n\n \n\nTwo sessions of her presentation will be offered at Lake Region Healthcare's Hospital Lower Level Conference Room at 712 S Cascade St. in Fergus Falls. The first session is Tuesday\, March 29th from 7 to 8pm. The second session will be held on Wednesday\, March 30th from Noon to 1pm.  \n\n \n\nBoth sessions are free and open to the public.  If you are planning to attend the March 30th session\, please RSVP to Kathy Lehn to help us plan for lunch by calling 218.736.8615 or emailing kmlehn@lrhc.org.  \n\n \n\nAbout Lake Region Healthcare\n\nLake Region Healthcare is living out its vision to be Minnesota's preeminent regional healthcare partner. With over 80 Medical Staff and over 900 employees\, its team is dedicated to serving its patients and community with integrity\, teamwork\, compassion and excellence. For more information about Lake Region Healthcare\, visit www.lrhc.org.
X-ALT-DESC;FMTTYPE=text/html:<strong><span style="font-size: 12pt\;"><span style="font-family: arial\,sans-serif\;">LRH Implementing Patient &amp\; Family Advisory Council</span></span></strong><br />\n<em><span style="font-size: 12pt\;"><span style="font-family: arial\,sans-serif\;">Public Invited to Kick Off Speaker Lisa Juliar on the topic of Patient &amp\; Family Engagement</span></span></em><br />\n&nbsp\;<br />\n<span style="font-family: calibri\,sans-serif\;"><span style="font-size: medium\;">(FERGUS FALLS\, MN)&nbsp\; </span><span style="font-size: medium\;">Lake Region Healthcare (LRH)</span></span> <span style="font-family: calibri\,sans-serif\;"><span style="font-size: medium\;">Community members are invited to an informative presentation about the importance of being involved in your healthcare experience and a new initiative designed to foster more patient involvement to improve the health care process. </span></span><br />\n&nbsp\;<br />\n<span style="font-family: calibri\,sans-serif\;"><span style="font-size: medium\;">Lisa Juliar will be the featured speaker this kick-off event to learn about new ways to become involved in the health care experience for yourself and your family as LRH prepares to develop a Patient &amp\; Family Advisory Council. Juliar currently partners with the Minnesota Hospital Association (MHA) as a Patient and Family Engagement (PFE) Consultant\, and is co-chair of the MHA Patient and Family Advisory Committee (PFAC)\, and for the past 4 years has served as the first consumer on the Minnesota Alliance for Patient Safety Board. </span></span><br />\n&nbsp\;<br />\n<span style="font-family: calibri\,sans-serif\;"><span style="font-size: medium\;">Using the MHA &ldquo\;Include Always&rdquo\; Patient Family Engagement (PFE) Model\, Lisa has inspired and educated hospitals &amp\; clinics on how to engage PFACs as the foundation for patient-centered care throughout the health system. After experiencing a negative healthcare event\, Lisa became passionate about sharing her story for positive results. Lisa&rsquo\;s journey has been fueled by thinking &ldquo\;out of the box&rdquo\; in order to generate creative models of sustainable change for safer care and meaningful partnerships with patients.</span></span><br />\n&nbsp\;<br />\n<span style="font-family: calibri\,sans-serif\;"><span style="font-size: medium\;">Two sessions of her presentation will be offered at Lake Region Healthcare&rsquo\;s Hospital Lower Level Conference Room at 712 S Cascade St. in Fergus Falls. The first session is Tuesday\, March 29<sup><span style="font-size: small\;">th</span></sup></span><span style="font-size: medium\;"> from 7 to 8pm. The second session will be held on Wednesday\, March 30</span><sup><span style="font-size: small\;">th</span></sup><span style="font-size: medium\;"> from Noon to 1pm.</span>&nbsp\; </span><br />\n&nbsp\;<br />\n<span style="font-family: calibri\,sans-serif\;"><span style="font-size: medium\;">Both sessions are free and open to the public.&nbsp\; </span><span style="font-size: medium\;">If you are planning to attend the March 30th session\, please RSVP to Kathy Lehn to help us plan for lunch by calling 218.736.8615 or emailing </span></span><a href="mailto:kmlehn@lrhc.org"><span style="font-family: calibri\,sans-serif\;"><span style="font-size: medium\;"><span style="color: rgb(0\, 0\, 255)\;">kmlehn@lrhc.org</span></span></span></a><span style="font-family: calibri\,sans-serif\;"><span style="font-size: medium\;">. &nbsp\;</span></span><br />\n&nbsp\;<br />\n<em><span style="font-size: 10pt\;"><span style="font-family: arial\,sans-serif\;">About Lake Region Healthcare</span></span></em><br />\n<span style="font-size: 10pt\;"><span style="font-family: arial\,sans-serif\;">Lake Region Healthcare&nbsp\;is living out its vision to be Minnesota&#39\;s preeminent regional healthcare partner. With over 80 Medical Staff and over 900 employees\, its team is dedicated to serving its patients and community with integrity\, teamwork\, compassion and excellence. For more information about Lake Region Healthcare\, visit </span></span><a href="http://www.lrhc.org/"><span style="font-size: 10pt\;"><span style="font-family: arial\,sans-serif\;"><span style="color: rgb(0\, 0\, 255)\;">www.lrhc.org</span></span></span></a><span style="font-size: 10pt\;"><span style="font-family: arial\,sans-serif\;">.&nbsp\;&nbsp\;&nbsp\;&nbsp\;&nbsp\;&nbsp\;&nbsp\;&nbsp\;&nbsp\;&nbsp\;&nbsp\;&nbsp\;&nbsp\;&nbsp\;&nbsp\;&nbsp\;&nbsp\;&nbsp\;&nbsp\;&nbsp\;&nbsp\;&nbsp\;&nbsp\;&nbsp\;&nbsp\;&nbsp\;&nbsp\;&nbsp\;&nbsp\;&nbsp\;&nbsp\;&nbsp\;&nbsp\;&nbsp\;&nbsp\;&nbsp\;&nbsp\;&nbsp\;&nbsp\;&nbsp\;&nbsp\;&nbsp\;&nbsp\;&nbsp\;&nbsp\;&nbsp\;&nbsp\;&nbsp\;&nbsp\;&nbsp\;&nbsp\;&nbsp\;&nbsp\;&nbsp\;&nbsp\;&nbsp\;&nbsp\;&nbsp\;&nbsp\;&nbsp\;&nbsp\;&nbsp\;&nbsp\;&nbsp\;&nbsp\;</span></span>
LOCATION:Lake Region Healthcare's Hospital Lower Level Conference Room at 712 S Cascade St. in Fergus Falls
UID:e.314.32063
SEQUENCE:3
DTSTAMP:20260425T201531Z
URL:https://business.fergusfalls.com/events/details/patient-family-advisory-council-lrhc-kick-off-event-03-30-2016-32063
END:VEVENT

END:VCALENDAR
