BEGIN:VCALENDAR
VERSION:2.0
PRODID:-//ChamberMaster//Event Calendar 2.0//EN
METHOD:PUBLISH
X-PUBLISHED-TTL:P3D
REFRESH-INTERVAL:P3D
CALSCALE:GREGORIAN
BEGIN:VEVENT
DTSTART:20160803T000000Z
DTEND:20160803T013000Z
X-MICROSOFT-CDO-ALLDAYEVENT:FALSE
SUMMARY:Paul's Legacy Tour - Community Discussion
DESCRIPTION:Paul Shol from Fergus Falls is riding his bicycle across the country from west coast to east. He's taking a couple days to rest when he's home - and sharing his journey and story with the community. Join him for a community conversation on Tuesday Night\, August 2nd at 7 p.m. at Federated Church. He leaves on Wednesday morning at 6:30 for the next leg of his journey.
X-ALT-DESC;FMTTYPE=text/html:Paul Shol from Fergus Falls is riding his bicycle across the country from west coast to east. He&#39\;s taking a couple days to rest when he&#39\;s home - and sharing his journey and story with the community. Join him for a community conversation on Tuesday Night\, August 2nd at 7 p.m. at Federated Church. He leaves on Wednesday morning at 6:30 for the next leg of his journey.
LOCATION:Federated Church 224 North Union Ave. Fergus Falls\, MN
UID:e.314.33092
SEQUENCE:3
DTSTAMP:20260425T110804Z
URL:https://business.fergusfalls.com/events/details/paul-s-legacy-tour-community-discussion-08-02-2016-33092
END:VEVENT

END:VCALENDAR
