BEGIN:VCALENDAR
VERSION:2.0
PRODID:-//ChamberMaster//Event Calendar 2.0//EN
METHOD:PUBLISH
X-PUBLISHED-TTL:P3D
REFRESH-INTERVAL:P3D
CALSCALE:GREGORIAN
BEGIN:VEVENT
DTSTART:20181007T160000Z
DTEND:20181007T190000Z
X-MICROSOFT-CDO-ALLDAYEVENT:FALSE
SUMMARY:Pebble Lake Wedding Expo
DESCRIPTION:Calling all brides! Pebble Lake Golf Club is hosting our first-ever wedding expo! We want to give the brides of Fergus Falls and surrounding areas a local one-stop-shop to check out some of the awesome businesses we have in town to help turn your wedding-day vision into a reality. Swing by for a couple hours on October 7th to socialize\, check out the gorgeous golf course (as a possible venue?!)\, grab some business cards\, and maybe even get some free stuff! There will be drawings\, drinks\, and tons of ideas for all of those wedding Pinterest boards! Early bird tickets are available in a limited quantity! We look forward to seeing you at Pebble Lake!
X-ALT-DESC;FMTTYPE=text/html:<div class="_63ew" data-testid="event-permalink-details"><span>Calling all brides! Pebble Lake Golf Club is hosting our first-ever wedding expo! We want to give the brides of Fergus Falls and surrounding areas a local one-stop-shop to check out some of the awesome businesses we have in town to help turn your wedding-day vision into a reality. Swing by for a couple hours on October 7th to socialize\, check out the gorgeous golf course (as a possible venue?!)\, grab some business cards\, and maybe even get some free stuff! There will be drawings\, drinks\, and tons of ideas for all of those wedding Pinterest boards! Early bird tickets are available in a limited quantity! We look forward to seeing you at Pebble Lake!</span></div>\n
LOCATION:Pebble Lake Golf Club 1918 Pebble Lake Golf Dr.\, Fergus Falls\, Minnesota
UID:e.314.50314
SEQUENCE:3
DTSTAMP:20260423T150650Z
URL:https://business.fergusfalls.com/events/details/pebble-lake-wedding-expo-50314
END:VEVENT

END:VCALENDAR
