BEGIN:VCALENDAR
VERSION:2.0
PRODID:-//ChamberMaster//Event Calendar 2.0//EN
METHOD:PUBLISH
X-PUBLISHED-TTL:P3D
REFRESH-INTERVAL:P3D
CALSCALE:GREGORIAN
BEGIN:VEVENT
DTSTART:20160729T210000Z
DTEND:20160730T010000Z
X-MICROSOFT-CDO-ALLDAYEVENT:FALSE
SUMMARY:Pebble Lake Youth Triathlon
DESCRIPTION:Young budding triathletes will take to the shores of beautiful Pebble Lake on the evening of Friday\, July 29th for the 2nd Annual Pebble Lake Youth Triathlon. A shoreline swim combined with a safe & secure bike/run route make this an ideal course for youth ages 7 to 15. Taking place on the eve of the popular Hoot Lake Triathlon\, the Pebble Lake Youth Triathlon is the perfect way to involve the whole family. \n\n\n\nRules & Requirements: All fees are non-refundable. See www.pebblelakeyouthtri.com for race rules. All registered participants will receive updates by email leading up to the event so it is very important to give an accurate email address and to check it regularly.
X-ALT-DESC;FMTTYPE=text/html:<span style="color: rgb(55\, 55\, 55)\; font-family: &quot\;Helvetica Neue&quot\;\, Helvetica\, Arial\, sans-serif\; font-size: 15px\; line-height: 24.375px\;">Young budding triathletes will take to the shores of beautiful Pebble Lake on the evening of Friday\, July 29th for the&nbsp\;2nd Annual&nbsp\;Pebble Lake Youth Triathlon. A shoreline swim combined with a safe &amp\; secure bike/run route make this an ideal course for youth ages 7 to 15. Taking place on the eve of the popular&nbsp\;</span><a href="http://www.fergusfallsymca.org/cms-view-page.php?page=special-events" style="border: 0px\; font-family: &quot\;Helvetica Neue&quot\;\, Helvetica\, Arial\, sans-serif\; font-size: 15px\; margin: 0px\; outline: 0px\; padding: 0px\; vertical-align: baseline\; color: rgb(25\, 130\, 209)\; text-decoration: none\; line-height: 24.375px\;">Hoot Lake Triathlon</a><span style="color: rgb(55\, 55\, 55)\; font-family: &quot\;Helvetica Neue&quot\;\, Helvetica\, Arial\, sans-serif\; font-size: 15px\; line-height: 24.375px\;">\, the Pebble Lake Youth Triathlon is the perfect way to involve the whole family.&nbsp\;<br />\n<br />\nRules &amp\; Requirements: All fees are non-refundable. See www.pebblelakeyouthtri.com for race rules. All registered participants will receive updates by email leading up to the event so it is very important to give an accurate email address and to check it regularly.</span><br />\n<br />\n&nbsp\;
LOCATION:Pebble Beach\, 1918 Pebble Lake Golf Dr\, Fergus Falls\, MN 56537
UID:e.314.32771
SEQUENCE:3
DTSTAMP:20260425T125926Z
URL:https://business.fergusfalls.com/events/details/pebble-lake-youth-triathlon-07-29-2016-32771
END:VEVENT

END:VCALENDAR
