BEGIN:VCALENDAR
VERSION:2.0
PRODID:-//ChamberMaster//Event Calendar 2.0//EN
METHOD:PUBLISH
X-PUBLISHED-TTL:P3D
REFRESH-INTERVAL:P3D
CALSCALE:GREGORIAN
BEGIN:VEVENT
DTSTART;VALUE=DATE:20200216
DTEND;VALUE=DATE:20200217
TRANSP:TRANSPARENT
X-MICROSOFT-CDO-ALLDAYEVENT:TRUE
SUMMARY:PeeWee A District Tournament
DESCRIPTION:Fergus Falls Hosts Hockey PeeWee A District Tournament
X-ALT-DESC;FMTTYPE=text/html:Fergus Falls Hosts Hockey PeeWee A District Tournament
LOCATION:Fergus Falls Community Arena
UID:e.314.56197
SEQUENCE:3
DTSTAMP:20260422T142918Z
URL:https://business.fergusfalls.com/events/details/peewee-a-district-tournament-02-16-2020-56197
END:VEVENT

END:VCALENDAR
