BEGIN:VCALENDAR
VERSION:2.0
PRODID:-//ChamberMaster//Event Calendar 2.0//EN
METHOD:PUBLISH
X-PUBLISHED-TTL:P3D
REFRESH-INTERVAL:P3D
CALSCALE:GREGORIAN
BEGIN:VEVENT
DTSTART;VALUE=DATE:20190416
DTEND;VALUE=DATE:20190417
TRANSP:TRANSPARENT
X-MICROSOFT-CDO-ALLDAYEVENT:TRUE
SUMMARY:PEP RALLY DAY - Otter Dash - PTO
DESCRIPTION:2019 OTTER DASH what you need to know:\n\n  The Otter Dash is the main fundraiser for the Parent Teacher Organization (PTO). Funds raised will be used for enhancing literacy\, fine arts\, and STEM initiatives in our elementary schools. See below for examples of how PTO spends the money raised from fundraisers. Our goal is to raise $25\,000!\n\n  The fundraiser starts off with a Pep Rally and concludes with the Otter Dash Fun Run. During these ten days\, classrooms are visited by Boosterthon team members where they embark on the Mind Spark Mystery Lab adventure learning about character traits such as integrity\, grit\, and teamwork.\n\n  Money is raised through pledges that students collect from friends\, family and community members. This is done primarily online\, but cash pledges are also accepted.\n\n  Every student (kindergarten through 4th grade) will participate in the Otter Dash and receive a FREE race shirt that they will wear during the Otter Dash - even if they choose not to participate in raising funds.\n\n  The PTO chose this fundraiser because it is FUN\, all kids are able to participate\, kids don't have to go door to door selling catalog items\, and the focus character development.\n\n\n\nWhat the PTO funded this year: Brought the Climb Theatre to each of the elementary schools Helped send the K-1st grade students to Dance and Dessert Birthday Books for all McKinley students Brought the Science Museum to each of the elementary schools Lego WeDo kits for Adams iPads for 3rd grade Guided reading books for Cleveland McKinley Benchmark assessment A to Z reading subscriptions Sent students K-3rd grade to Dragons Love Tacos at A Center for the Arts And more!\n\n\n\nWe are projected to distribute over $26\,000 during the 2018-2019 school year!
X-ALT-DESC;FMTTYPE=text/html:2019 OTTER DASH what you need to know:<br />\n&bull\; The Otter Dash is the main fundraiser for the Parent Teacher Organization (PTO). Funds raised will be used for enhancing literacy\, fine arts\, and STEM initiatives in our elementary schools. See below for examples of how PTO spends the money raised from fundraisers. Our goal is to raise $25\,000!<br />\n&bull\; The fundraiser starts off with a Pep Rally and concludes with the Otter Dash Fun Run. During these ten days\, classrooms are visited by Boosterthon team members where they embark on the Mind Spark Mystery Lab adventure learning about character traits such as integrity\, grit\, and teamwork.<br />\n&bull\; Money is raised through pledges that students collect from friends\, family and community members. This is done primarily online\, but cash pledges are also accepted.<br />\n&bull\; Every student (kindergarten through 4th grade) will participate in the Otter Dash and receive a FREE race shirt that they will wear during the Otter Dash - even if they choose not to participate in raising funds.<br />\n&bull\; The PTO chose this fundraiser because it is FUN\, all kids are able to participate\, kids don&rsquo\;t have to go door to door selling catalog items\, and the focus character development.<br />\n<br />\nWhat the PTO funded this year: Brought the Climb Theatre to each of the elementary schools Helped send the K-1st grade students to Dance and Dessert Birthday Books for all McKinley students Brought the Science Museum to each of the elementary schools Lego WeDo kits for Adams iPads for 3rd grade Guided reading books for Cleveland McKinley Benchmark assessment A to Z reading subscriptions Sent students K-3rd grade to Dragons Love Tacos at A Center for the Arts And more!<br />\n<br />\nWe are projected to distribute over $26\,000 during the 2018-2019 school year!
LOCATION:The Otter Dash will take place at the Otter Football Stadium at Kennedy Secondary School. 9:15 - Kindergarten and 1st grade 10:15 - 2nd and 4th grade 12:15 - 3rd grade
UID:e.314.53863
SEQUENCE:3
DTSTAMP:20260423T063054Z
URL:https://business.fergusfalls.com/events/details/pep-rally-day-otter-dash-pto-53863
END:VEVENT

END:VCALENDAR
