BEGIN:VCALENDAR
VERSION:2.0
PRODID:-//ChamberMaster//Event Calendar 2.0//EN
METHOD:PUBLISH
X-PUBLISHED-TTL:P3D
REFRESH-INTERVAL:P3D
CALSCALE:GREGORIAN
BEGIN:VEVENT
DTSTART;VALUE=DATE:20191010
DTEND;VALUE=DATE:20191101
TRANSP:TRANSPARENT
X-MICROSOFT-CDO-ALLDAYEVENT:TRUE
SUMMARY:Perkins Dine to Donate for Someplace Safe
DESCRIPTION:Every Thursday in October Perkins will donate 20% of proceeds to Someplace Safe.
X-ALT-DESC;FMTTYPE=text/html:Every Thursday in October Perkins will donate 20% of proceeds to Someplace Safe.
LOCATION:Perkins 623 Frontier Dr Fergus Falls\, MN 56537
UID:e.314.54805
SEQUENCE:3
DTSTAMP:20260422T203944Z
URL:https://business.fergusfalls.com/events/details/perkins-dine-to-donate-for-someplace-safe-54805
END:VEVENT

END:VCALENDAR
