BEGIN:VCALENDAR
VERSION:2.0
PRODID:-//ChamberMaster//Event Calendar 2.0//EN
METHOD:PUBLISH
X-PUBLISHED-TTL:P3D
REFRESH-INTERVAL:P3D
CALSCALE:GREGORIAN
BEGIN:VEVENT
DTSTART:20190206T223000Z
DTEND:20190207T003000Z
X-MICROSOFT-CDO-ALLDAYEVENT:FALSE
SUMMARY:Phatty Natties 10 Year Anniversary Open House
DESCRIPTION:
X-ALT-DESC;FMTTYPE=text/html:
LOCATION:Dining Car #423 @ Cascade Street Station 423 S Cascade Street Fergus Falls\, MN 56537
UID:e.314.52472
SEQUENCE:3
DTSTAMP:20260423T093624Z
URL:https://business.fergusfalls.com/events/details/phatty-natties-10-year-anniversary-open-house-52472
END:VEVENT

END:VCALENDAR
