BEGIN:VCALENDAR
VERSION:2.0
PRODID:-//ChamberMaster//Event Calendar 2.0//EN
METHOD:PUBLISH
X-PUBLISHED-TTL:P3D
REFRESH-INTERVAL:P3D
CALSCALE:GREGORIAN
BEGIN:VEVENT
DTSTART:20210911T150000Z
DTEND:20210911T210000Z
X-MICROSOFT-CDO-ALLDAYEVENT:FALSE
SUMMARY:Pheasants Forever Chapter's Fall Pheasant Days
DESCRIPTION:The Otter Tail Chapter of PF will return to a more traditional banquet/fundraiser event on Saturday\, April 9th\, 2022. In the meantime\, we are partnering with the Fergus Falls Fleet Farm to hold Fall Pheasant Days. Stop by our tent in the parking lot to: - purchase memberships and/or buy raffle tickets\; - paddle wheel raffle for Fleet Farm gift cards -meet a bird dog: several different breeds will be on site thru the day\; - pick up a Fleet discount coupon ($10 off with $50 purchase)\; - play Lazer Shot\; - buy lunch at one of the food trucks -sign up for the 2021 mentored youth hunt at Viking Valley on Oct. 10th
X-ALT-DESC;FMTTYPE=text/html:The Otter Tail Chapter of PF will return to a more traditional banquet/fundraiser event on Saturday\, April 9th\, 2022. In the meantime\, we are partnering with the Fergus Falls Fleet Farm to hold Fall Pheasant Days. Stop by our tent in the parking lot to: - purchase memberships and/or buy raffle tickets\; - paddle wheel raffle for Fleet Farm gift cards -meet a bird dog: several different breeds will be on site thru the day\; - pick up a Fleet discount coupon ($10 off with $50 purchase)\; - play Lazer Shot\; - buy lunch at one of the food trucks -sign up for the 2021 mentored youth hunt at Viking Valley on Oct. 10th
LOCATION:Fleet Farm Parking Lot
UID:e.314.63348
SEQUENCE:3
DTSTAMP:20260421T083018Z
URL:https://business.fergusfalls.com/events/details/pheasants-forever-chapter-s-fall-pheasant-days-63348
END:VEVENT

END:VCALENDAR
