BEGIN:VCALENDAR
VERSION:2.0
PRODID:-//ChamberMaster//Event Calendar 2.0//EN
METHOD:PUBLISH
X-PUBLISHED-TTL:P3D
REFRESH-INTERVAL:P3D
CALSCALE:GREGORIAN
BEGIN:VEVENT
DTSTART:20160709T143000Z
DTEND:20160710T200000Z
X-MICROSOFT-CDO-ALLDAYEVENT:FALSE
SUMMARY:Phelps Mill Festival
DESCRIPTION:Phelps Mill Festival \n\nJuly 9 & 10\, 2016\n\n\n\n \n\n\n\n\n    The Phelps Mill Festival is held every year on the 2nd weekend in July.  The area's  largest art and craft event of the summer.  Two full days of art\, food\, entertainment\, & kids' activities fill the Phelps Mill County Park which provides a beautiful setting for this annual event.   We bring you high quality artists in a variety of work.  In addition to shopping\,   we provide great entertainment appearing on the main stage and around the grounds.  Nonprofits provide a variety of ethnic and American foods throughout both days.\n\n\n\nSome of the things we're bringing to the Festival include free WIFI and a cash machine for your convenience.   You'll be able  to help choose the "People's Choice Award" using your smartphone or by stopping at the information booth\, you can choose your favorite artist for 2015.    \n\n \n\n\n\nHOURS:  SATURDAY 9:30-5:00    SUNDAY 9:30 - 4:00\n\nFREE PARKING AND SHUTTLE SERVICE TO FESTIVAL\n\nADMISSION - $3/ADULTS  CHILDREN 12 & UNDER ARE FREE
X-ALT-DESC;FMTTYPE=text/html:<div style="display: block\;">\n<p style="text-align: center\;"><font face="Veggieburger" style="font-size: 20px\;"><font color="#000000" style="font-size: 20px\;"><strong><font style="font-size: 24px\;">Phelps Mill Festival </font><br />\n<font style="font-size: 24px\;">July 9 &amp\; 10\, 2016</font></strong></font></font></p>\n</div>\n<!-- MainHead:End --><!-- 3 -->\n\n<div class="sf_extra3">&nbsp\;</div>\n\n<div class="sf_content"><!-- Content:Begin -->\n<div class="LayoutContainer" style="display: block\;">\n<div>\n<div style="overflow: hidden\; display: block\;"><font face="Arial Black\, Gadget\, sans-serif"><font color="#000000">&nbsp\;&nbsp\; </font></font> <font style="font-size: 16px\;"><strong><font color="#007f7f" style="font-size: 16px\;"><font style="font-size: 16px\;"><font style="font-size: 16px\;"><font color="#bf00bf" style="font-size: 16px\;"><strong><font color="#007f7f" style="font-size: 16px\;"><font style="font-size: 16px\;"><font style="font-size: 16px\;"><font style="font-size: 16px\;"><font style="font-size: 10px\;">The Phelps Mill Festival is held every year on the 2nd weekend in July.&nbsp\; The area&#39\;s&nbsp\; largest art and craft event of the summer.&nbsp\; Two full days of art\, food\, entertainment\, &amp\; kids&#39\; activities fill the Phelps Mill County Park which provides a beautiful setting for this annual event. &nbsp\; We bring you high&nbsp\;quality artists in a variety of work.&nbsp\; In addition to shopping\,&nbsp\; &nbsp\;we provide great entertainment appearing on the main stage and around the grounds.&nbsp\; Nonprofits provide a variety of ethnic and American foods throughout both days.</font></font></font></font></font></strong></font></font></font></font></strong></font><br />\n<br />\n<strong><font color="#007f7f"><font style="font-size: 16px\;"><font style="font-size: 16px\;"><font color="#bf00bf" style="font-size: 12px\;">Some of the things we&#39\;re bringing to the Festival include free WIFI and a cash machine for your convenience.&nbsp\;&nbsp\; You&#39\;ll be able&nbsp\; to help choose the &quot\;People&#39\;s Choice Award&quot\; using your smartphone or by stopping at the information booth\, you can choose your favorite artist for 2015.&nbsp\;&nbsp\;&nbsp\; </font></font></font></font></strong>\n\n<div style="text-align: center\;">&nbsp\;</div>\n\n<div style="text-align: center\;"><br />\n<font style="font-size: 14px\;"><strong><font color="#007f7f" style="font-size: 14px\;"><font style="font-size: 14px\;"><font style="font-size: 14px\;"><font style="font-size: 14px\;">HOURS:&nbsp\; SATURDAY 9:30-5:00&nbsp\; &nbsp\; SUNDAY 9:30 - 4:00<br />\nFREE PARKING AND SHUTTLE SERVICE TO FESTIVAL<br />\nADMISSION - $3/ADULTS&nbsp\; CHILDREN 12 &amp\; UNDER ARE FREE</font></font></font></font></strong></font></div>\n</div>\n</div>\n</div>\n</div>\n
LOCATION:
UID:e.314.32635
SEQUENCE:3
DTSTAMP:20260425T130019Z
URL:https://business.fergusfalls.com/events/details/phelps-mill-festival-07-09-2016-32635
END:VEVENT

END:VCALENDAR
