BEGIN:VCALENDAR
VERSION:2.0
PRODID:-//ChamberMaster//Event Calendar 2.0//EN
METHOD:PUBLISH
X-PUBLISHED-TTL:P3D
REFRESH-INTERVAL:P3D
CALSCALE:GREGORIAN
BEGIN:VEVENT
DTSTART:20191015T140000Z
DTEND:20191015T210000Z
X-MICROSOFT-CDO-ALLDAYEVENT:FALSE
SUMMARY:Pie & Cheesecake Sale at Security State Bank
DESCRIPTION:
X-ALT-DESC;FMTTYPE=text/html:
LOCATION:
UID:e.314.54801
SEQUENCE:3
DTSTAMP:20260422T222139Z
URL:https://business.fergusfalls.com/events/details/pie-cheesecake-sale-at-security-state-bank-54801
END:VEVENT

END:VCALENDAR
